BEGIN:VCALENDAR
VERSION:2.0
PRODID:-//Port of Kingston - ECPv6.15.20//NONSGML v1.0//EN
CALSCALE:GREGORIAN
METHOD:PUBLISH
X-WR-CALNAME:Port of Kingston
X-ORIGINAL-URL:https://portofkingston.org
X-WR-CALDESC:Events for Port of Kingston
REFRESH-INTERVAL;VALUE=DURATION:PT1H
X-Robots-Tag:noindex
X-PUBLISHED-TTL:PT1H
BEGIN:VTIMEZONE
TZID:America/Los_Angeles
BEGIN:DAYLIGHT
TZOFFSETFROM:-0800
TZOFFSETTO:-0700
TZNAME:PDT
DTSTART:20220313T100000
END:DAYLIGHT
BEGIN:STANDARD
TZOFFSETFROM:-0700
TZOFFSETTO:-0800
TZNAME:PST
DTSTART:20221106T090000
END:STANDARD
BEGIN:DAYLIGHT
TZOFFSETFROM:-0800
TZOFFSETTO:-0700
TZNAME:PDT
DTSTART:20230312T100000
END:DAYLIGHT
BEGIN:STANDARD
TZOFFSETFROM:-0700
TZOFFSETTO:-0800
TZNAME:PST
DTSTART:20231105T090000
END:STANDARD
BEGIN:DAYLIGHT
TZOFFSETFROM:-0800
TZOFFSETTO:-0700
TZNAME:PDT
DTSTART:20240310T100000
END:DAYLIGHT
BEGIN:STANDARD
TZOFFSETFROM:-0700
TZOFFSETTO:-0800
TZNAME:PST
DTSTART:20241103T090000
END:STANDARD
END:VTIMEZONE
BEGIN:VEVENT
DTSTART;TZID=America/Los_Angeles:20230207T003000
DTEND;TZID=America/Los_Angeles:20230207T023000
DTSTAMP:20260423T014424
CREATED:20230105T022149Z
LAST-MODIFIED:20230105T022149Z
UID:11668-1675729800-1675737000@portofkingston.org
SUMMARY:Port of Kingston Commission Work Session
DESCRIPTION:Meeting will be hosted in person at the Port of Kingston Administrative Office\, 2nd Floor Conference Room. If you are unable to attend in person. please join via the Zoom link below. \n\n\n\n\nCommissioners in concert with Port Staff hold weekly work sessions to conduct Port business. \nPort of Kingston is inviting you to a scheduled Zoom meeting. \nTopic: Work Session \nFeb 7\, 2023 08:30 AM Pacific Time (US and Canada) \nPlease download and import the following iCalendar (.ics) files to your calendar system. \nWeekly: https://us02web.zoom.us/meeting/tZ0qf-igqD0oHdYKvSoDE42C0EQ1nctoexQ9/ics?icsToken=98tyKuGhqTMrEtKTsh6FRpx5B4qgd_zwpiFBgqdktwnWDAR2NlHVZsdzY7x8BNfV \nJoin Zoom Meeting \nhttps://us02web.zoom.us/j/89781866272 \nMeeting ID: 897 8186 6272 \nOne tap mobile – \n+12532050468\,\,89781866272# US \n+12532158782\,\,89781866272# US (Tacoma)
URL:https://portofkingston.org/event/port-of-kingston-commission-work-session-60/
LOCATION:Port of Kingston\, 2nd Floor Conference Room\, 25864 Washington Blvd\, Kingston\, WA - Washington\, 98346
END:VEVENT
BEGIN:VEVENT
DTSTART;TZID=America/Los_Angeles:20230214T003000
DTEND;TZID=America/Los_Angeles:20230214T023000
DTSTAMP:20260423T014424
CREATED:20230105T022339Z
LAST-MODIFIED:20230105T022408Z
UID:11671-1676334600-1676341800@portofkingston.org
SUMMARY:Port of Kingston Commission Work Session
DESCRIPTION:Meeting will be hosted in person at the Port of Kingston Administrative Office\, 2nd Floor Conference Room. If you are unable to attend in person. please join via the Zoom link below. \nCommissioners in concert with Port Staff hold weekly work sessions to conduct Port business. \nPort of Kingston is inviting you to a scheduled Zoom meeting. \nTopic: Work Session \nFeb 14\, 2023 08:30 AM Pacific Time (US and Canada) \nPlease download and import the following iCalendar (.ics) files to your calendar system. \nWeekly: https://us02web.zoom.us/meeting/tZ0qf-igqD0oHdYKvSoDE42C0EQ1nctoexQ9/ics?icsToken=98tyKuGhqTMrEtKTsh6FRpx5B4qgd_zwpiFBgqdktwnWDAR2NlHVZsdzY7x8BNfV \nJoin Zoom Meeting \nhttps://us02web.zoom.us/j/89781866272 \nMeeting ID: 897 8186 6272 \nOne tap mobile – \n+12532050468\,\,89781866272# US \n+12532158782\,\,89781866272# US (Tacoma)
URL:https://portofkingston.org/event/11671/
LOCATION:Port of Kingston\, 2nd Floor Conference Room\, 25864 Washington Blvd\, Kingston\, WA - Washington\, 98346
END:VEVENT
BEGIN:VEVENT
DTSTART;TZID=America/Los_Angeles:20230221T003000
DTEND;TZID=America/Los_Angeles:20230221T023000
DTSTAMP:20260423T014424
CREATED:20230105T022550Z
LAST-MODIFIED:20230105T022550Z
UID:11674-1676939400-1676946600@portofkingston.org
SUMMARY:Port of Kingston Commission Work Session
DESCRIPTION:Meeting will be hosted in person at the Port of Kingston Administrative Office\, 2nd Floor Conference Room. If you are unable to attend in person. please join via the Zoom link below. \nCommissioners in concert with Port Staff hold weekly work sessions to conduct Port business. \nPort of Kingston is inviting you to a scheduled Zoom meeting. \nTopic: Work Session \nFeb 21\, 2023 08:30 AM Pacific Time (US and Canada) \nPlease download and import the following iCalendar (.ics) files to your calendar system. \nWeekly: https://us02web.zoom.us/meeting/tZ0qf-igqD0oHdYKvSoDE42C0EQ1nctoexQ9/ics?icsToken=98tyKuGhqTMrEtKTsh6FRpx5B4qgd_zwpiFBgqdktwnWDAR2NlHVZsdzY7x8BNfV \nJoin Zoom Meeting \nhttps://us02web.zoom.us/j/89781866272 \nMeeting ID: 897 8186 6272 \nOne tap mobile – \n+12532050468\,\,89781866272# US \n+12532158782\,\,89781866272# US (Tacoma)
URL:https://portofkingston.org/event/port-of-kingston-commission-work-session-61/
LOCATION:Port of Kingston\, 2nd Floor Conference Room\, 25864 Washington Blvd\, Kingston\, WA - Washington\, 98346
END:VEVENT
BEGIN:VEVENT
DTSTART;TZID=America/Los_Angeles:20230222T103000
DTEND;TZID=America/Los_Angeles:20230222T123000
DTSTAMP:20260423T014424
CREATED:20230105T041931Z
LAST-MODIFIED:20230105T043323Z
UID:11766-1677061800-1677069000@portofkingston.org
SUMMARY:Port of Kingston Regular Commission Meeting
DESCRIPTION:Meeting will be hosted in person at the Village Green Community Center. If you are unable to attend in person\, please join via the Zoom link below\nPort of Kingston is inviting you to a scheduled Zoom meeting. \nTopic: Regular Commission Meeting \nTime: Feb 22\, 2023 06:30 PM \nPlease download and import the following iCalendar (.ics) files to your calendar system. \nMonthly: https://us02web.zoom.us/meeting/tZYvdeiqqzgiH9HKZoJjkuV1TRbb5HWO0NOG/ics?icsToken=98tyKuGqrDkrGNGWuByCRpwQAIjod-rwmHZHgvp1tyXqKSpYdzWnAtBAMOdXJ_eA \nJoin Zoom Meeting \nhttps://us02web.zoom.us/j/82221253855 \nMeeting ID: 822 2125 3855 \nOne tap mobile \n+12532158782\,\,82221253855# US (Tacoma) \n+16694449171\,\,82221253855# US
URL:https://portofkingston.org/event/port-of-kingston-regular-commission-meeting-35/
LOCATION:Village Green Community Center\, 26159 Dulay Road NE\, Kingston\, WA\, 98346\, United States
END:VEVENT
BEGIN:VEVENT
DTSTART;TZID=America/Los_Angeles:20230228T003000
DTEND;TZID=America/Los_Angeles:20230228T023000
DTSTAMP:20260423T014424
CREATED:20230105T022723Z
LAST-MODIFIED:20230105T022723Z
UID:11676-1677544200-1677551400@portofkingston.org
SUMMARY:Port of Kingston Commission Work Session
DESCRIPTION:Meeting will be hosted in person at the Port of Kingston Administrative Office\, 2nd Floor Conference Room. If you are unable to attend in person. please join via the Zoom link below. \nCommissioners in concert with Port Staff hold weekly work sessions to conduct Port business. \nPort of Kingston is inviting you to a scheduled Zoom meeting. \nTopic: Work Session \nFeb 28\, 2023 08:30 AM Pacific Time (US and Canada) \nPlease download and import the following iCalendar (.ics) files to your calendar system. \nWeekly: https://us02web.zoom.us/meeting/tZ0qf-igqD0oHdYKvSoDE42C0EQ1nctoexQ9/ics?icsToken=98tyKuGhqTMrEtKTsh6FRpx5B4qgd_zwpiFBgqdktwnWDAR2NlHVZsdzY7x8BNfV \nJoin Zoom Meeting \nhttps://us02web.zoom.us/j/89781866272 \nMeeting ID: 897 8186 6272 \nOne tap mobile – \n+12532050468\,\,89781866272# US \n+12532158782\,\,89781866272# US (Tacoma)
URL:https://portofkingston.org/event/port-of-kingston-commission-work-session-62/
LOCATION:Port of Kingston\, 2nd Floor Conference Room\, 25864 Washington Blvd\, Kingston\, WA - Washington\, 98346
END:VEVENT
END:VCALENDAR