BEGIN:VCALENDAR
VERSION:2.0
PRODID:-//Port of Kingston - ECPv6.15.20//NONSGML v1.0//EN
CALSCALE:GREGORIAN
METHOD:PUBLISH
X-WR-CALNAME:Port of Kingston
X-ORIGINAL-URL:https://portofkingston.org
X-WR-CALDESC:Events for Port of Kingston
REFRESH-INTERVAL;VALUE=DURATION:PT1H
X-Robots-Tag:noindex
X-PUBLISHED-TTL:PT1H
BEGIN:VTIMEZONE
TZID:America/Los_Angeles
BEGIN:DAYLIGHT
TZOFFSETFROM:-0800
TZOFFSETTO:-0700
TZNAME:PDT
DTSTART:20210314T100000
END:DAYLIGHT
BEGIN:STANDARD
TZOFFSETFROM:-0700
TZOFFSETTO:-0800
TZNAME:PST
DTSTART:20211107T090000
END:STANDARD
BEGIN:DAYLIGHT
TZOFFSETFROM:-0800
TZOFFSETTO:-0700
TZNAME:PDT
DTSTART:20220313T100000
END:DAYLIGHT
BEGIN:STANDARD
TZOFFSETFROM:-0700
TZOFFSETTO:-0800
TZNAME:PST
DTSTART:20221106T090000
END:STANDARD
BEGIN:DAYLIGHT
TZOFFSETFROM:-0800
TZOFFSETTO:-0700
TZNAME:PDT
DTSTART:20230312T100000
END:DAYLIGHT
BEGIN:STANDARD
TZOFFSETFROM:-0700
TZOFFSETTO:-0800
TZNAME:PST
DTSTART:20231105T090000
END:STANDARD
END:VTIMEZONE
BEGIN:VEVENT
DTSTART;TZID=America/Los_Angeles:20221203T020000
DTEND;TZID=America/Los_Angeles:20221203T120000
DTSTAMP:20260423T042008
CREATED:20221112T041748Z
LAST-MODIFIED:20221112T041748Z
UID:11526-1670032800-1670068800@portofkingston.org
SUMMARY:Kingston Cove Christmas
DESCRIPTION:Come join us for a day of activities ending with the lighting of Mike Wallace Park & Marina! \nClick HERE for a schedule and list of activities. \nLights will remain on dusk-dawn until January 8th. If you can’t make the lighting event\, please come visit us another time during the holiday season! \n 
URL:https://portofkingston.org/event/kingston-cove-christmas-3/
LOCATION:Mike Wallace Park & Events Tent Facilities\, 25864 Washington Blvd. NE\, Kingston\, WA\, 98346\, United States
END:VEVENT
BEGIN:VEVENT
DTSTART;TZID=America/Los_Angeles:20221206T003000
DTEND;TZID=America/Los_Angeles:20221206T023000
DTSTAMP:20260423T042008
CREATED:20220806T065310Z
LAST-MODIFIED:20221101T062635Z
UID:11036-1670286600-1670293800@portofkingston.org
SUMMARY:Port of Kingston Commission Work Session
DESCRIPTION:Meeting will be hosted in person at the Village Green Community Center. If you are unable to attend in person\, please join via the Zoom link below\nCommissioners in concert with Port Staff hold weekly work study sessions to conduct Port business.  These meetings are open to the public\, however they are not open for public comment; the public is welcome to sit and listen only.  Public comment is taken at the Port of Kingston’s monthly Regular Commission Meetings. \n\nThere are no agenda’s for work study sessions. \n\nThis meeting will be offered remotely through Zoom  \nJoin Zoom Meeting\nhttps://us02web.zoom.us/j/85044989231 \nMeeting ID: 850 4498 9231\nOne tap mobile\n+12532158782\,\,85044989231# US (Tacoma)\n+16699006833\,\,85044989231# US (San Jose) \nDial by your location\n+1 253 215 8782 US (Tacoma)\n+1 669 900 6833 US (San Jose)\n+1 346 248 7799 US (Houston)\n+1 312 626 6799 US (Chicago)\n+1 929 205 6099 US (New York)\n+1 301 715 8592 US (Washington D.C)\nMeeting ID: 850 4498 9231\nFind your local number: https://us02web.zoom.us/u/kcpu0k2R9C
URL:https://portofkingston.org/event/port-of-kingston-commission-work-session-46/
LOCATION:WA
END:VEVENT
BEGIN:VEVENT
DTSTART;TZID=America/Los_Angeles:20221213T003000
DTEND;TZID=America/Los_Angeles:20221213T023000
DTSTAMP:20260423T042008
CREATED:20221101T060842Z
LAST-MODIFIED:20221101T060842Z
UID:11481-1670891400-1670898600@portofkingston.org
SUMMARY:Port of Kingston Commission Work Session
DESCRIPTION:Meeting will be hosted in person at the Village Green Community Center. If you are unable to attend in person\, please join via the Zoom link below\nCommissioners in concert with Port Staff hold weekly work study sessions to conduct Port business.  These meetings are open to the public\, however they are not open for public comment; the public is welcome to sit and listen only.  Public comment is taken at the Port of Kingston’s monthly Regular Commission Meetings. \n\nThere are no agenda’s for work study sessions. \n\nThis meeting will be offered remotely through Zoom  \nJoin Zoom Meeting\nhttps://us02web.zoom.us/j/85044989231 \nMeeting ID: 850 4498 9231\nOne tap mobile\n+12532158782\,\,85044989231# US (Tacoma)\n+16699006833\,\,85044989231# US (San Jose) \nDial by your location\n+1 253 215 8782 US (Tacoma)\n+1 669 900 6833 US (San Jose)\n+1 346 248 7799 US (Houston)\n+1 312 626 6799 US (Chicago)\n+1 929 205 6099 US (New York)\n+1 301 715 8592 US (Washington D.C)\nMeeting ID: 850 4498 9231\nFind your local number: https://us02web.zoom.us/u/kcpu0k2R9C
URL:https://portofkingston.org/event/port-of-kingston-commission-work-session-57/
LOCATION:Village Green Community Center\, 26159 Dulay Road NE\, Kingston\, WA\, 98346\, United States
END:VEVENT
BEGIN:VEVENT
DTSTART;TZID=America/Los_Angeles:20221214T103000
DTEND;TZID=America/Los_Angeles:20221214T123000
DTSTAMP:20260423T042008
CREATED:20220930T070632Z
LAST-MODIFIED:20221108T031929Z
UID:11245-1671013800-1671021000@portofkingston.org
SUMMARY:Port of Kingston Regular Commission Meeting
DESCRIPTION:Meeting will be hosted in person at the Village Green Community Center. If you are unable to attend in person\, please join via the Zoom link below\n\nPort of Kingston is inviting you to a scheduled Zoom meeting. \nTopic: Port of Kingston Regular Session Meeting \nJoin Zoom Meeting\nhttps://us02web.zoom.us/j/81023066807?pwd=ajErNm4xOFJFcVVJZEsyRXVRNFZ4dz09 \nMeeting ID: 810 2306 6807\nPasscode: 434376\nOne tap mobile\n+12532158782\,\,81023066807#\,\,\,\,*434376# US (Tacoma)\n+16694449171\,\,81023066807#\,\,\,\,*434376# US \nDial by your location\n+1 253 215 8782 US (Tacoma)\n+1 669 444 9171 US\n+1 669 900 6833 US (San Jose)\n+1 719 359 4580 US\n+1 346 248 7799 US (Houston)\n+1 386 347 5053 US\n+1 564 217 2000 US\n+1 646 931 3860 US\n+1 929 205 6099 US (New York)\n+1 301 715 8592 US (Washington DC)\n+1 309 205 3325 US\n+1 312 626 6799 US (Chicago)\nMeeting ID: 810 2306 6807\nPasscode: 434376\nFind your local number: https://us02web.zoom.us/u/kGvmzbJIZ
URL:https://portofkingston.org/event/port-of-kingston-regular-commission-meeting-33/
LOCATION:Village Green Community Center\, 26159 Dulay Road NE\, Kingston\, WA\, 98346\, United States
END:VEVENT
BEGIN:VEVENT
DTSTART;VALUE=DATE:20221218
DTEND;VALUE=DATE:20221220
DTSTAMP:20260423T042008
CREATED:20220207T070051Z
LAST-MODIFIED:20220207T070230Z
UID:10317-1671379200-1671465599@portofkingston.org
SUMMARY:Xmas Food4kids
DESCRIPTION:
URL:https://portofkingston.org/event/xmas-food4kids/
LOCATION:WA
END:VEVENT
BEGIN:VEVENT
DTSTART;VALUE=DATE:20221226
DTEND;VALUE=DATE:20221228
DTSTAMP:20260423T042008
CREATED:20220207T070123Z
LAST-MODIFIED:20220207T070123Z
UID:10319-1672070400-1672156799@portofkingston.org
SUMMARY:Xmas Food4kids
DESCRIPTION:
URL:https://portofkingston.org/event/xmas-food4kids-2/
LOCATION:WA
END:VEVENT
END:VCALENDAR