BEGIN:VCALENDAR
VERSION:2.0
PRODID:-//Port of Kingston - ECPv6.15.20//NONSGML v1.0//EN
CALSCALE:GREGORIAN
METHOD:PUBLISH
X-ORIGINAL-URL:https://portofkingston.org
X-WR-CALDESC:Events for Port of Kingston
REFRESH-INTERVAL;VALUE=DURATION:PT1H
X-Robots-Tag:noindex
X-PUBLISHED-TTL:PT1H
BEGIN:VTIMEZONE
TZID:America/Los_Angeles
BEGIN:DAYLIGHT
TZOFFSETFROM:-0800
TZOFFSETTO:-0700
TZNAME:PDT
DTSTART:20210314T100000
END:DAYLIGHT
BEGIN:STANDARD
TZOFFSETFROM:-0700
TZOFFSETTO:-0800
TZNAME:PST
DTSTART:20211107T090000
END:STANDARD
BEGIN:DAYLIGHT
TZOFFSETFROM:-0800
TZOFFSETTO:-0700
TZNAME:PDT
DTSTART:20220313T100000
END:DAYLIGHT
BEGIN:STANDARD
TZOFFSETFROM:-0700
TZOFFSETTO:-0800
TZNAME:PST
DTSTART:20221106T090000
END:STANDARD
BEGIN:DAYLIGHT
TZOFFSETFROM:-0800
TZOFFSETTO:-0700
TZNAME:PDT
DTSTART:20230312T100000
END:DAYLIGHT
BEGIN:STANDARD
TZOFFSETFROM:-0700
TZOFFSETTO:-0800
TZNAME:PST
DTSTART:20231105T090000
END:STANDARD
END:VTIMEZONE
BEGIN:VEVENT
DTSTART;TZID=America/Los_Angeles:20221002T030000
DTEND;TZID=America/Los_Angeles:20221002T080000
DTSTAMP:20260423T084116
CREATED:20220408T055701Z
LAST-MODIFIED:20220408T055701Z
UID:10664-1664679600-1664697600@portofkingston.org
SUMMARY:Kingston Public Market
DESCRIPTION:The Kingston Public Market will operate: \nSundays\, May 1 through October 9\, 2022\n10:00 a.m. – 3:00 p.m. at the Kingston Marina Park. \n  \nThe Market Website is operational: www.TheKingstonPublicMarket.com
URL:https://portofkingston.org/event/kingston-public-market-28/
LOCATION:WA
END:VEVENT
BEGIN:VEVENT
DTSTART;TZID=America/Los_Angeles:20221004T013000
DTEND;TZID=America/Los_Angeles:20221004T033000
DTSTAMP:20260423T084116
CREATED:20220928T045220Z
LAST-MODIFIED:20220929T010853Z
UID:11181-1664847000-1664854200@portofkingston.org
SUMMARY:Port of Kingston Work Session
DESCRIPTION:Meeting will be hosted in person at the Village Green Community Center. If you are unable to attend in person\, please join via the Zoom link below\nCommissioners in concert with Port Staff hold weekly work study sessions to conduct Port business.  These meetings are open to the public\, however they are not open for public comment; the public is welcome to sit and listen only.  Public comment is taken at the Port of Kingston’s monthly Regular Commission Meetings. \n\nThere are no agenda’s for work study sessions. \n\n This meeting will be offered remotely through Zoom  \nJoin Zoom Meeting\nhttps://us02web.zoom.us/j/85044989231 \nMeeting ID: 850 4498 9231\nOne tap mobile\n+12532158782\,\,85044989231# US (Tacoma)\n+16699006833\,\,85044989231# US (San Jose) \nDial by your location\n+1 253 215 8782 US (Tacoma)\n+1 669 900 6833 US (San Jose)\n+1 346 248 7799 US (Houston)\n+1 312 626 6799 US (Chicago)\n+1 929 205 6099 US (New York)\n+1 301 715 8592 US (Washington D.C)\nMeeting ID: 850 4498 9231\nFind your local number: https://us02web.zoom.us/u/kcpu0k2R9C
URL:https://portofkingston.org/event/port-of-kingston-work-session-43/
LOCATION:Village Green Community Center\, 26159 Dulay Road NE\, Kingston\, WA\, 98346\, United States
END:VEVENT
BEGIN:VEVENT
DTSTART;TZID=America/Los_Angeles:20221009T030000
DTEND;TZID=America/Los_Angeles:20221009T080000
DTSTAMP:20260423T084116
CREATED:20220408T055829Z
LAST-MODIFIED:20220408T055829Z
UID:10666-1665284400-1665302400@portofkingston.org
SUMMARY:Kingston Public Market
DESCRIPTION:The Kingston Public Market will operate: \nSundays\, May 1 through October 9\, 2022\n10:00 a.m. – 3:00 p.m. at the Kingston Marina Park. \n  \nThe Market Website is operational: www.TheKingstonPublicMarket.com
URL:https://portofkingston.org/event/kingston-public-market-29/
LOCATION:WA
END:VEVENT
BEGIN:VEVENT
DTSTART;TZID=America/Los_Angeles:20221011T040000
DTEND;TZID=America/Los_Angeles:20221011T050000
DTSTAMP:20260423T084116
CREATED:20220723T042521Z
LAST-MODIFIED:20221011T061623Z
UID:11022-1665460800-1665464400@portofkingston.org
SUMMARY:Port of Kingston Commission Work Session
DESCRIPTION:Meeting will be hosted in person at the Kingston Cove Yacht Club (KCYC). If you are unable to attend in person\, please join via the Zoom link below\nCommissioners in concert with Port Staff hold weekly work study sessions to conduct Port business.  These meetings are open to the public\, however they are not open for public comment; the public is welcome to sit and listen only.  Public comment is taken at the Port of Kingston’s monthly Regular Commission Meetings. \n\nThere are no agenda’s for work study sessions. \n\nThis meeting will be offered remotely through Zoom  \nJoin Zoom Meeting\nhttps://us02web.zoom.us/j/85044989231 \nMeeting ID: 850 4498 9231\nOne tap mobile\n+12532158782\,\,85044989231# US (Tacoma)\n+16699006833\,\,85044989231# US (San Jose) \nDial by your location\n+1 253 215 8782 US (Tacoma)\n+1 669 900 6833 US (San Jose)\n+1 346 248 7799 US (Houston)\n+1 312 626 6799 US (Chicago)\n+1 929 205 6099 US (New York)\n+1 301 715 8592 US (Washington D.C)\nMeeting ID: 850 4498 9231\nFind your local number: https://us02web.zoom.us/u/kcpu0k2R9C
URL:https://portofkingston.org/event/port-of-kingston-commission-work-session-51/
LOCATION:KCYC – Kingston Cove Yacht Club\, 25878 Washington Blvd. NE\, Kingston\, 98346\, United States
END:VEVENT
BEGIN:VEVENT
DTSTART;TZID=America/Los_Angeles:20221018T013000
DTEND;TZID=America/Los_Angeles:20221018T033000
DTSTAMP:20260423T084116
CREATED:20220928T055742Z
LAST-MODIFIED:20220928T055742Z
UID:11189-1666056600-1666063800@portofkingston.org
SUMMARY:PORT OF KINGSTON COMMISSION WORK SESSION
DESCRIPTION:Meeting will be hosted in person at the Kingston Cove Yacht Club (KCYC). If you are unable to attend in person\, please join via the Zoom link below\nCommissioners in concert with Port Staff hold weekly work study sessions to conduct Port business.  These meetings are open to the public\, however they are not open for public comment; the public is welcome to sit and listen only.  Public comment is taken at the Port of Kingston’s monthly Regular Commission Meetings. \n\nThere are no agendas for work study sessions. \n\nThis meeting will be offered remotely through Zoom  \nPort of Kingston is inviting you to a scheduled Zoom meeting. \nTopic: Port of Kingston Work Session \nJoin Zoom Meeting\nhttps://us02web.zoom.us/j/85044989231 \nMeeting ID: 850 4498 9231\nOne tap mobile\n+12532158782\,\,85044989231# US (Tacoma)\n+16694449171\,\,85044989231# US \nDial by your location\n+1 253 215 8782 US (Tacoma)\n+1 669 444 9171 US\n+1 669 900 6833 US (San Jose)\n+1 719 359 4580 US\n+1 346 248 7799 US (Houston)\n+1 309 205 3325 US\n+1 312 626 6799 US (Chicago)\n+1 386 347 5053 US\n+1 564 217 2000 US\n+1 646 931 3860 US\n+1 929 205 6099 US (New York)\n+1 301 715 8592 US (Washington DC)\nMeeting ID: 850 4498 9231\nFind your local number: https://us02web.zoom.us/u/kcpu0k2R9C \n 
URL:https://portofkingston.org/event/port-of-kingston-commission-work-session-52/
LOCATION:KCYC – Kingston Cove Yacht Club\, 25878 Washington Blvd. NE\, Kingston\, 98346\, United States
END:VEVENT
BEGIN:VEVENT
DTSTART;TZID=America/Los_Angeles:20221025T013000
DTEND;TZID=America/Los_Angeles:20221025T033000
DTSTAMP:20260423T084116
CREATED:20220806T064746Z
LAST-MODIFIED:20220928T055317Z
UID:11032-1666661400-1666668600@portofkingston.org
SUMMARY:Port of Kingston Commission Work Session
DESCRIPTION:Meeting will be hosted in person at the Kingston Cove Yacht Club (KCYC). If you are unable to attend in person\, please join via the Zoom link below\nCommissioners in concert with Port Staff hold weekly work study sessions to conduct Port business.  These meetings are open to the public\, however they are not open for public comment; the public is welcome to sit and listen only.  Public comment is taken at the Port of Kingston’s monthly Regular Commission Meetings. \n\nThere are no agenda’s for work study sessions. \n\nThis meeting will be offered remotely through Zoom  \nJoin Zoom Meeting\nhttps://us02web.zoom.us/j/85044989231 \nMeeting ID: 850 4498 9231\nOne tap mobile\n+12532158782\,\,85044989231# US (Tacoma)\n+16699006833\,\,85044989231# US (San Jose) \nDial by your location\n+1 253 215 8782 US (Tacoma)\n+1 669 900 6833 US (San Jose)\n+1 346 248 7799 US (Houston)\n+1 312 626 6799 US (Chicago)\n+1 929 205 6099 US (New York)\n+1 301 715 8592 US (Washington D.C)\nMeeting ID: 850 4498 9231\nFind your local number: https://us02web.zoom.us/u/kcpu0k2R9C
URL:https://portofkingston.org/event/port-of-kingston-commission-work-session-44/
LOCATION:KCYC – Kingston Cove Yacht Club\, 25878 Washington Blvd. NE\, Kingston\, 98346\, United States
END:VEVENT
BEGIN:VEVENT
DTSTART;TZID=America/Los_Angeles:20221026T113000
DTEND;TZID=America/Los_Angeles:20221026T133000
DTSTAMP:20260423T084116
CREATED:20220930T070100Z
LAST-MODIFIED:20221001T062215Z
UID:11238-1666783800-1666791000@portofkingston.org
SUMMARY:Port of Kingston Regular Commission Meeting
DESCRIPTION:Meeting will be hosted in person at the Village Green Community Center. If you are unable to attend in person\, please join via the Zoom link below\nPort of Kingston is inviting you to a scheduled Zoom meeting. \nTopic: Port of Kingston Regular Session Meeting\nTime: Sep 28\, 2022 01:00 PM Pacific Time (US and Canada) \nJoin Zoom Meeting\nhttps://us02web.zoom.us/j/81023066807?pwd=ajErNm4xOFJFcVVJZEsyRXVRNFZ4dz09 \nMeeting ID: 810 2306 6807\nPasscode: 434376\nOne tap mobile\n+12532158782\,\,81023066807#\,\,\,\,*434376# US (Tacoma)\n+16694449171\,\,81023066807#\,\,\,\,*434376# US \nDial by your location\n+1 253 215 8782 US (Tacoma)\n+1 669 444 9171 US\n+1 669 900 6833 US (San Jose)\n+1 719 359 4580 US\n+1 346 248 7799 US (Houston)\n+1 386 347 5053 US\n+1 564 217 2000 US\n+1 646 931 3860 US\n+1 929 205 6099 US (New York)\n+1 301 715 8592 US (Washington DC)\n+1 309 205 3325 US\n+1 312 626 6799 US (Chicago)\nMeeting ID: 810 2306 6807\nPasscode: 434376\nFind your local number: https://us02web.zoom.us/u/kGvmzbJIZ
URL:https://portofkingston.org/event/port-of-kingston-regular-commission-meeting-31/
LOCATION:Village Green Community Center\, 26159 Dulay Road NE\, Kingston\, WA\, 98346\, United States
END:VEVENT
BEGIN:VEVENT
DTSTART;VALUE=DATE:20221030
DTEND;VALUE=DATE:20221101
DTSTAMP:20260423T084116
CREATED:20220207T065445Z
LAST-MODIFIED:20220207T065512Z
UID:10307-1667149200-1667235599@portofkingston.org
SUMMARY:Halloween Carnival
DESCRIPTION:
URL:https://portofkingston.org/event/halloween-carnival/
LOCATION:WA
END:VEVENT
END:VCALENDAR