BEGIN:VCALENDAR
VERSION:2.0
PRODID:-//Port of Kingston - ECPv6.15.20//NONSGML v1.0//EN
CALSCALE:GREGORIAN
METHOD:PUBLISH
X-WR-CALNAME:Port of Kingston
X-ORIGINAL-URL:https://portofkingston.org
X-WR-CALDESC:Events for Port of Kingston
REFRESH-INTERVAL;VALUE=DURATION:PT1H
X-Robots-Tag:noindex
X-PUBLISHED-TTL:PT1H
BEGIN:VTIMEZONE
TZID:America/Los_Angeles
BEGIN:DAYLIGHT
TZOFFSETFROM:-0800
TZOFFSETTO:-0700
TZNAME:PDT
DTSTART:20200308T100000
END:DAYLIGHT
BEGIN:STANDARD
TZOFFSETFROM:-0700
TZOFFSETTO:-0800
TZNAME:PST
DTSTART:20201101T090000
END:STANDARD
BEGIN:DAYLIGHT
TZOFFSETFROM:-0800
TZOFFSETTO:-0700
TZNAME:PDT
DTSTART:20210314T100000
END:DAYLIGHT
BEGIN:STANDARD
TZOFFSETFROM:-0700
TZOFFSETTO:-0800
TZNAME:PST
DTSTART:20211107T090000
END:STANDARD
BEGIN:DAYLIGHT
TZOFFSETFROM:-0800
TZOFFSETTO:-0700
TZNAME:PDT
DTSTART:20220313T100000
END:DAYLIGHT
BEGIN:STANDARD
TZOFFSETFROM:-0700
TZOFFSETTO:-0800
TZNAME:PST
DTSTART:20221106T090000
END:STANDARD
END:VTIMEZONE
BEGIN:VEVENT
DTSTART;TZID=America/Los_Angeles:20211019T063000
DTEND;TZID=America/Los_Angeles:20211019T080000
DTSTAMP:20260421T054432
CREATED:20210120T053458Z
LAST-MODIFIED:20211016T003323Z
UID:8991-1634625000-1634630400@portofkingston.org
SUMMARY:Kitsap Regional Coordinating Council (KRCC) PlanPOL Meeting
DESCRIPTION:KRCC PlanPOL provides recommendations and guidance to the KRCC Board regarding countywide and regional land use planning efforts. The Land Use Planning Policy Committee (PlanPOL) includes representatives from KRCC member agencies and representatives from the Puget Sound Regional Council. PlanPOL meets 4-6 times per year. PlanPOL makes recommendations to the full KRCC Board for review and action. View 2020 PlanPOL Members. \nOne or more Commissioners may attend this draft. \nhttp://www.kitsapregionalcouncil.org/transportation-policy/ \nTo view the 2021 KRCC Meeting Schedule\, click here \n 
URL:https://portofkingston.org/event/port-of-kingston-commissions-work-session-2-2-3-2-2/
LOCATION:WA
END:VEVENT
BEGIN:VEVENT
DTSTART;TZID=America/Los_Angeles:20211019T013000
DTEND;TZID=America/Los_Angeles:20211019T033000
DTSTAMP:20260421T054432
CREATED:20210721T232436Z
LAST-MODIFIED:20210721T232436Z
UID:9497-1634607000-1634614200@portofkingston.org
SUMMARY:Port of Kingston Commission Work Session
DESCRIPTION:Commissioners in concert with Port Staff hold weekly work study sessions to conduct Port business.  These meetings are open to the public\, however they are not open for public comment; the public is welcome to sit and listen only.  Public comment is taken at the Port of Kingston’s monthly Regular Commission Meetings. \n\nThere are no agenda’s for work study sessions. \n\nThis meeting will be offered remotely through Zoom  \nJoin Zoom Meeting\nhttps://us02web.zoom.us/j/85044989231 \nMeeting ID: 850 4498 9231\nOne tap mobile\n+12532158782\,\,85044989231# US (Tacoma)\n+16699006833\,\,85044989231# US (San Jose) \nDial by your location\n+1 253 215 8782 US (Tacoma)\n+1 669 900 6833 US (San Jose)\n+1 346 248 7799 US (Houston)\n+1 312 626 6799 US (Chicago)\n+1 929 205 6099 US (New York)\n+1 301 715 8592 US (Washington D.C)\nMeeting ID: 850 4498 9231\nFind your local number: https://us02web.zoom.us/u/kcpu0k2R9C
URL:https://portofkingston.org/event/port-of-kingston-commissions-work-session-2-2-2-2-2-2-2-2-2-2-2-2-2-2-2-2-2-2-2-2-2-2-2-2-2-2-2-2-2-2-2-2-2-2-2-2-2-2-2/
LOCATION:WA
END:VEVENT
BEGIN:VEVENT
DTSTART;TZID=America/Los_Angeles:20211015T063000
DTEND;TZID=America/Los_Angeles:20211015T073000
DTSTAMP:20260421T054432
CREATED:20211016T000548Z
LAST-MODIFIED:20211016T000709Z
UID:9863-1634279400-1634283000@portofkingston.org
SUMMARY:WPPA Marina Committee
DESCRIPTION:One or more Port Commissioners may attend this event.  For agenda\, zoom link or more information please visit https://www.washingtonports.org/events-1 \n 
URL:https://portofkingston.org/event/wppa-marina-committee/
LOCATION:WA
END:VEVENT
BEGIN:VEVENT
DTSTART;TZID=America/Los_Angeles:20211014T060000
DTEND;TZID=America/Los_Angeles:20211014T080000
DTSTAMP:20260421T054432
CREATED:20210120T061743Z
LAST-MODIFIED:20210120T061743Z
UID:9016-1634191200-1634198400@portofkingston.org
SUMMARY:Kitsap Regional Coordinating Council (KRCC) TransTAC Meeting
DESCRIPTION:The Transportation Technical Advisory Committee (TransTAC) includes each jurisdiction’s Transportation Planning Director and representatives from Kitsap Transit\, and the Washington State Department of Transportation (WSDOT). agencies. This Committee usually meets monthly alongside the Transportation Policy Board (TransPOL) to share information\, develop proposed recommendations for review by the TransPOL\, and collaborate on more efficient ways to provide transportation services to residents throughout Kitsap County. View 2020 Members of TransTAC here. \nTwo or more Commissioners may attend this meeting. \nFor the KRCC 2021 Meeting schedule click here 
URL:https://portofkingston.org/event/kitsap-regional-coordinating-council-krcc-transtac-meeting-4-2/
LOCATION:WA
END:VEVENT
BEGIN:VEVENT
DTSTART;TZID=America/Los_Angeles:20211012T013000
DTEND;TZID=America/Los_Angeles:20211012T033000
DTSTAMP:20260421T054432
CREATED:20210721T232345Z
LAST-MODIFIED:20210721T232345Z
UID:9495-1634002200-1634009400@portofkingston.org
SUMMARY:Port of Kingston Commission Work Session
DESCRIPTION:Commissioners in concert with Port Staff hold weekly work study sessions to conduct Port business.  These meetings are open to the public\, however they are not open for public comment; the public is welcome to sit and listen only.  Public comment is taken at the Port of Kingston’s monthly Regular Commission Meetings. \n\nThere are no agenda’s for work study sessions. \n\nThis meeting will be offered remotely through Zoom  \nJoin Zoom Meeting\nhttps://us02web.zoom.us/j/85044989231 \nMeeting ID: 850 4498 9231\nOne tap mobile\n+12532158782\,\,85044989231# US (Tacoma)\n+16699006833\,\,85044989231# US (San Jose) \nDial by your location\n+1 253 215 8782 US (Tacoma)\n+1 669 900 6833 US (San Jose)\n+1 346 248 7799 US (Houston)\n+1 312 626 6799 US (Chicago)\n+1 929 205 6099 US (New York)\n+1 301 715 8592 US (Washington D.C)\nMeeting ID: 850 4498 9231\nFind your local number: https://us02web.zoom.us/u/kcpu0k2R9C
URL:https://portofkingston.org/event/port-of-kingston-commissions-work-session-2-2-2-2-2-2-2-2-2-2-2-2-2-2-2-2-2-2-2-2-2-2-2-2-2-2-2-2-2-2-2-2-2-2-2-2-2-2/
LOCATION:WA
END:VEVENT
BEGIN:VEVENT
DTSTART;TZID=America/Los_Angeles:20211005T013000
DTEND;TZID=America/Los_Angeles:20211005T033000
DTSTAMP:20260421T054432
CREATED:20210721T232313Z
LAST-MODIFIED:20211005T000428Z
UID:9493-1633397400-1633404600@portofkingston.org
SUMMARY:Port of Kingston Commission Work Session
DESCRIPTION:Commissioners in concert with Port Staff hold weekly work study sessions to conduct Port business.  These meetings are open to the public\, however they are not open for public comment; the public is welcome to sit and listen only.  Public comment is taken at the Port of Kingston’s monthly Regular Commission Meetings. \n\nAgenda Items: \n\n\nDiscussion of Port Business\n\nThis meeting will be offered remotely through Zoom  \nJoin Zoom Meeting\nhttps://us02web.zoom.us/j/85044989231 \nMeeting ID: 850 4498 9231\nOne tap mobile\n+12532158782\,\,85044989231# US (Tacoma)\n+16699006833\,\,85044989231# US (San Jose) \nDial by your location\n+1 253 215 8782 US (Tacoma)\n+1 669 900 6833 US (San Jose)\n+1 346 248 7799 US (Houston)\n+1 312 626 6799 US (Chicago)\n+1 929 205 6099 US (New York)\n+1 301 715 8592 US (Washington D.C)\nMeeting ID: 850 4498 9231\nFind your local number: https://us02web.zoom.us/u/kcpu0k2R9C
URL:https://portofkingston.org/event/port-of-kingston-commissions-work-session-2-2-2-2-2-2-2-2-2-2-2-2-2-2-2-2-2-2-2-2-2-2-2-2-2-2-2-2-2-2-2-2-2-2-2-2-2/
LOCATION:WA
END:VEVENT
BEGIN:VEVENT
DTSTART;TZID=America/Los_Angeles:20211003T030000
DTEND;TZID=America/Los_Angeles:20211003T080000
DTSTAMP:20260421T054432
CREATED:20210416T000914Z
LAST-MODIFIED:20210416T000914Z
UID:9241-1633230000-1633248000@portofkingston.org
SUMMARY:Kingston Public Market
DESCRIPTION:The Kingston Public Market is returning this year at the port! The market will be held on Sundays May 16th- October 3rd. Market hours are 10am- 3pm with live music until 2:30pm. For more information\, please visit www.TheKingstonPublicMarket.com
URL:https://portofkingston.org/event/kingston-public-market-7-2-2-2-2-2-2-2-2-2-2-2-2-2-2-2-2-2-2-2-2/
LOCATION:Port of Kingston\, 25864 Washington Blvd NE\, Kingston\, WA\, 98346\, United States
END:VEVENT
BEGIN:VEVENT
DTSTART;TZID=America/Los_Angeles:20210928T013000
DTEND;TZID=America/Los_Angeles:20210928T033000
DTSTAMP:20260421T054432
CREATED:20210721T232157Z
LAST-MODIFIED:20210721T232249Z
UID:9491-1632792600-1632799800@portofkingston.org
SUMMARY:Port of Kingston Commission Work Session
DESCRIPTION:Commissioners in concert with Port Staff hold weekly work study sessions to conduct Port business.  These meetings are open to the public\, however they are not open for public comment; the public is welcome to sit and listen only.  Public comment is taken at the Port of Kingston’s monthly Regular Commission Meetings. \n\nThere are no agenda’s for work study sessions. \n\nThis meeting will be offered remotely through Zoom  \nJoin Zoom Meeting\nhttps://us02web.zoom.us/j/85044989231 \nMeeting ID: 850 4498 9231\nOne tap mobile\n+12532158782\,\,85044989231# US (Tacoma)\n+16699006833\,\,85044989231# US (San Jose) \nDial by your location\n+1 253 215 8782 US (Tacoma)\n+1 669 900 6833 US (San Jose)\n+1 346 248 7799 US (Houston)\n+1 312 626 6799 US (Chicago)\n+1 929 205 6099 US (New York)\n+1 301 715 8592 US (Washington D.C)\nMeeting ID: 850 4498 9231\nFind your local number: https://us02web.zoom.us/u/kcpu0k2R9C
URL:https://portofkingston.org/event/port-of-kingston-commissions-work-session-2-2-2-2-2-2-2-2-2-2-2-2-2-2-2-2-2-2-2-2-2-2-2-2-2-2-2-2-2-2-2-2-2-2-2-2/
LOCATION:WA
END:VEVENT
BEGIN:VEVENT
DTSTART;TZID=America/Los_Angeles:20210926T030000
DTEND;TZID=America/Los_Angeles:20210926T080000
DTSTAMP:20260421T054432
CREATED:20210416T000846Z
LAST-MODIFIED:20210416T000846Z
UID:9239-1632625200-1632643200@portofkingston.org
SUMMARY:Kingston Public Market
DESCRIPTION:The Kingston Public Market is returning this year at the port! The market will be held on Sundays May 16th- October 3rd. Market hours are 10am- 3pm with live music until 2:30pm. For more information\, please visit www.TheKingstonPublicMarket.com
URL:https://portofkingston.org/event/kingston-public-market-7-2-2-2-2-2-2-2-2-2-2-2-2-2-2-2-2-2-2-2/
LOCATION:Port of Kingston\, 25864 Washington Blvd NE\, Kingston\, WA\, 98346\, United States
END:VEVENT
BEGIN:VEVENT
DTSTART;VALUE=DATE:20210922
DTEND;VALUE=DATE:20210925
DTSTAMP:20260421T054432
CREATED:20210721T233446Z
LAST-MODIFIED:20210721T233514Z
UID:9519-1632330000-1632502799@portofkingston.org
SUMMARY:WPPA 2021 Environmental Seminar
DESCRIPTION:Two or more commissioners may attend this event: \n\nThu\, Sep 23\, 20218:00 AM  Fri\, Sep 24\, 202112:00 PM\nAlderbrook Resort (map)\n\n\n\n\n\n\n\nWashignton Public Ports Environmental Seminar  
URL:https://portofkingston.org/event/wppa-2021-environmental-seminar/
LOCATION:WA
END:VEVENT
BEGIN:VEVENT
DTSTART;TZID=America/Los_Angeles:20210922T060000
DTEND;TZID=America/Los_Angeles:20210922T080000
DTSTAMP:20260421T054432
CREATED:20210721T230824Z
LAST-MODIFIED:20210922T053504Z
UID:9478-1632290400-1632297600@portofkingston.org
SUMMARY:Regular Commission Meeting
DESCRIPTION:Port of Kingston Regular Commission Meetings are held monthly to conduct regular Port business.  An agenda will be posted as soon as available before each meeting.  If any member of the public would like to be placed on the agenda\, please contact the Port Administrative Office.  Contact information is available on the contact tab of this website. \nThis meeting will be held in person and offered via Zoom \nJoin Zoom Meeting\nhttps://us02web.zoom.us/j/83704224990 \nMeeting ID: 837 0422 4990\nOne tap mobile\n+12532158782\,\,83704224990# US (Tacoma)\n+13462487799\,\,83704224990# US (Houston) \nDial by your location\n+1 253 215 8782 US (Tacoma)\n+1 346 248 7799 US (Houston)\n+1 669 900 6833 US (San Jose)\n+1 301 715 8592 US (Washington DC)\n+1 312 626 6799 US (Chicago)\n+1 929 205 6099 US (New York)\nMeeting ID: 837 0422 4990\nFind your local number: https://us02web.zoom.us/u/kdzfRaxngP \n 
URL:https://portofkingston.org/event/regular-commission-meeting-2/
LOCATION:Village Green Community Center\, 26159 Dulay Road NE\, Kingston\, WA\, 98346\, United States
END:VEVENT
BEGIN:VEVENT
DTSTART;TZID=America/Los_Angeles:20210921T103000
DTEND;TZID=America/Los_Angeles:20210921T123000
DTSTAMP:20260421T054432
CREATED:20210805T000712Z
LAST-MODIFIED:20210805T000712Z
UID:9581-1632220200-1632227400@portofkingston.org
SUMMARY:Kitsap County Planning Commission Public Hearing
DESCRIPTION:Two or more commissioners may attend this event.
URL:https://portofkingston.org/event/kitsap-county-planning-commission-meeting-2/
LOCATION:WA
END:VEVENT
BEGIN:VEVENT
DTSTART;TZID=America/Los_Angeles:20210919T030000
DTEND;TZID=America/Los_Angeles:20210919T080000
DTSTAMP:20260421T054432
CREATED:20210416T000819Z
LAST-MODIFIED:20210416T000819Z
UID:9237-1632020400-1632038400@portofkingston.org
SUMMARY:Kingston Public Market
DESCRIPTION:The Kingston Public Market is returning this year at the port! The market will be held on Sundays May 16th- October 3rd. Market hours are 10am- 3pm with live music until 2:30pm. For more information\, please visit www.TheKingstonPublicMarket.com
URL:https://portofkingston.org/event/kingston-public-market-7-2-2-2-2-2-2-2-2-2-2-2-2-2-2-2-2-2-2/
LOCATION:Port of Kingston\, 25864 Washington Blvd NE\, Kingston\, WA\, 98346\, United States
END:VEVENT
BEGIN:VEVENT
DTSTART;TZID=America/Los_Angeles:20210918T100000
DTEND;TZID=America/Los_Angeles:20210918T120000
DTSTAMP:20260421T054432
CREATED:20210723T023056Z
LAST-MODIFIED:20210723T023056Z
UID:9539-1631959200-1631966400@portofkingston.org
SUMMARY:Concerts on the Cove - Backstreet Jellyroll
DESCRIPTION:Join us for free concerts at the Port of Kingston Saturday’s from August 28 through September 18. Beer garden & food vendors open at 5pm. Music from 5 – 7 p.m. \nAugust 28 – Danny Vernon \nSeptember 4 – The Tropics \nSeptember 11 – Soul Siren \nSeptember 18 – Backstreet Jelly Roll 
URL:https://portofkingston.org/event/concerts-on-the-cove-backstreet-jellyroll/
LOCATION:Port of Kingston
ATTACH;FMTTYPE=image/png:https://portofkingston.org/wp-content/uploads/2021/07/Capture.png
END:VEVENT
BEGIN:VEVENT
DTSTART;TZID=America/Los_Angeles:20210916T100000
DTEND;TZID=America/Los_Angeles:20210916T120000
DTSTAMP:20260421T054432
CREATED:20210916T040648Z
LAST-MODIFIED:20210916T040648Z
UID:9708-1631786400-1631793600@portofkingston.org
SUMMARY:Kingston Chamber Business After Hours
DESCRIPTION:Come enjoy some free food and drinks courtesy of Westside Pizza! This is a great time to meet new businesses and even win some door prizes. Whether you’re an existing member or are interested in becoming a new member\, you won’t want to miss this event!\n\n\n\n+ Google Calendar+ iCal Export
URL:https://portofkingston.org/event/kingston-chamber-business-after-hours/
LOCATION:Westside Pizza Kingston\, 25960 Ohio Ave NE STE 102\, Kingston\, WA\, 9346
END:VEVENT
BEGIN:VEVENT
DTSTART;TZID=America/Los_Angeles:20210916T080000
DTEND;TZID=America/Los_Angeles:20210916T093000
DTSTAMP:20260421T054432
CREATED:20210120T061243Z
LAST-MODIFIED:20210120T062026Z
UID:9008-1631779200-1631784600@portofkingston.org
SUMMARY:Kitsap Regional Coordinating Council  (KRCC) TransPol Meeting
DESCRIPTION:KRCC PlanPOL provides recommendations and guidance to the KRCC Board regarding countywide and regional land use planning efforts. The Land Use Planning Policy Committee (PlanPOL) includes representatives from KRCC member agencies and representatives from the Puget Sound Regional Council. PlanPOL meets 4-6 times per year. PlanPOL makes recommendations to the full KRCC Board for review and action. View 2020 PlanPOL Members. \nTwo or more Commissioners may attend this event. \nFor the KRCC 2021 Meeting Schedule click here \n 
URL:https://portofkingston.org/event/kitsap-regional-coordinating-council-krcc-transpol-meeting-4-2-2/
LOCATION:WA
END:VEVENT
BEGIN:VEVENT
DTSTART;TZID=America/Los_Angeles:20210914T013000
DTEND;TZID=America/Los_Angeles:20210914T033000
DTSTAMP:20260421T054432
CREATED:20210721T231823Z
LAST-MODIFIED:20210721T231823Z
UID:9489-1631583000-1631590200@portofkingston.org
SUMMARY:Port of Kingston Commission Work Session
DESCRIPTION:Commissioners in concert with Port Staff hold weekly work study sessions to conduct Port business.  These meetings are open to the public\, however they are not open for public comment; the public is welcome to sit and listen only.  Public comment is taken at the Port of Kingston’s monthly Regular Commission Meetings. \n\nThere are no agenda’s for work study sessions. \n\nThis meeting will be offered remotely through Zoom  \nJoin Zoom Meeting\nhttps://us02web.zoom.us/j/85044989231 \nMeeting ID: 850 4498 9231\nOne tap mobile\n+12532158782\,\,85044989231# US (Tacoma)\n+16699006833\,\,85044989231# US (San Jose) \nDial by your location\n+1 253 215 8782 US (Tacoma)\n+1 669 900 6833 US (San Jose)\n+1 346 248 7799 US (Houston)\n+1 312 626 6799 US (Chicago)\n+1 929 205 6099 US (New York)\n+1 301 715 8592 US (Washington D.C)\nMeeting ID: 850 4498 9231\nFind your local number: https://us02web.zoom.us/u/kcpu0k2R9C
URL:https://portofkingston.org/event/port-of-kingston-commissions-work-session-2-2-2-2-2-2-2-2-2-2-2-2-2-2-2-2-2-2-2-2-2-2-2-2-2-2-2-2-2-2-2-2-2-2-2/
LOCATION:WA
END:VEVENT
BEGIN:VEVENT
DTSTART;TZID=America/Los_Angeles:20210912T030000
DTEND;TZID=America/Los_Angeles:20210912T080000
DTSTAMP:20260421T054432
CREATED:20210416T000747Z
LAST-MODIFIED:20210416T000747Z
UID:9235-1631415600-1631433600@portofkingston.org
SUMMARY:Kingston Public Market
DESCRIPTION:The Kingston Public Market is returning this year at the port! The market will be held on Sundays May 16th- October 3rd. Market hours are 10am- 3pm with live music until 2:30pm. For more information\, please visit www.TheKingstonPublicMarket.com
URL:https://portofkingston.org/event/kingston-public-market-7-2-2-2-2-2-2-2-2-2-2-2-2-2-2-2-2-2/
LOCATION:Port of Kingston\, 25864 Washington Blvd NE\, Kingston\, WA\, 98346\, United States
END:VEVENT
BEGIN:VEVENT
DTSTART;TZID=America/Los_Angeles:20210911T100000
DTEND;TZID=America/Los_Angeles:20210911T120000
DTSTAMP:20260421T054432
CREATED:20210723T023624Z
LAST-MODIFIED:20210723T024249Z
UID:9543-1631354400-1631361600@portofkingston.org
SUMMARY:Concerts on the Cove - Soul Siren
DESCRIPTION:Join us for free concerts at the Port of Kingston Saturday’s from August 28 through September 18. Beer garden & food vendors open at 5pm. Music from 5 – 7 p.m. \nAugust 28 – Danny Vernon \nSeptember 4 – The Tropics \nSeptember 11 – Soul Siren \nSeptember 18 – Backstreet Jelly Roll 
URL:https://portofkingston.org/event/concerts-on-the-cove-backstreet-jellyroll-2/
LOCATION:Port of Kingston
ATTACH;FMTTYPE=image/jpeg:https://portofkingston.org/wp-content/uploads/2021/07/soul-siren.jpg
END:VEVENT
BEGIN:VEVENT
DTSTART;TZID=America/Los_Angeles:20210910T030000
DTEND;TZID=America/Los_Angeles:20210910T040000
DTSTAMP:20260421T054432
CREATED:20210910T052106Z
LAST-MODIFIED:20210910T052106Z
UID:9700-1631242800-1631246400@portofkingston.org
SUMMARY:Kitsap County Planning Discussion
DESCRIPTION:Two or more commissioners may attend this event.
URL:https://portofkingston.org/event/kitsap-county-planning-commission-meeting-3/
LOCATION:Kitsap County Administrative Building\, 614 Division St.\, Port Orchar\, 98366
END:VEVENT
BEGIN:VEVENT
DTSTART;TZID=America/Los_Angeles:20210905T030000
DTEND;TZID=America/Los_Angeles:20210905T080000
DTSTAMP:20260421T054432
CREATED:20210416T000715Z
LAST-MODIFIED:20210416T000715Z
UID:9233-1630810800-1630828800@portofkingston.org
SUMMARY:Kingston Public Market
DESCRIPTION:The Kingston Public Market is returning this year at the port! The market will be held on Sundays May 16th- October 3rd. Market hours are 10am- 3pm with live music until 2:30pm. For more information\, please visit www.TheKingstonPublicMarket.com
URL:https://portofkingston.org/event/kingston-public-market-7-2-2-2-2-2-2-2-2-2-2-2-2-2-2-2-2/
LOCATION:Port of Kingston\, 25864 Washington Blvd NE\, Kingston\, WA\, 98346\, United States
END:VEVENT
BEGIN:VEVENT
DTSTART;TZID=America/Los_Angeles:20210904T100000
DTEND;TZID=America/Los_Angeles:20210904T120000
DTSTAMP:20260421T054432
CREATED:20210723T024104Z
LAST-MODIFIED:20210723T024104Z
UID:9546-1630749600-1630756800@portofkingston.org
SUMMARY:Concerts on the Cove - The Tropics
DESCRIPTION:Join us for free concerts at the Port of Kingston Saturday’s from August 28 through September 18. Beer garden & food vendors open at 5pm. Music from 5 – 7 p.m. \nAugust 28 – Danny Vernon \nSeptember 4 – The Tropics \nSeptember 11 – Soul Siren \nSeptember 18 – Backstreet Jelly Roll 
URL:https://portofkingston.org/event/concerts-on-the-cove-backstreet-jellyroll-2-2/
LOCATION:Port of Kingston
ATTACH;FMTTYPE=image/jpeg:https://portofkingston.org/wp-content/uploads/2021/07/57159891_2457348524278083_270275450054377472_n.jpg
END:VEVENT
BEGIN:VEVENT
DTSTART;TZID=America/Los_Angeles:20210831T013000
DTEND;TZID=America/Los_Angeles:20210831T033000
DTSTAMP:20260421T054432
CREATED:20210720T233003Z
LAST-MODIFIED:20210720T233003Z
UID:9464-1630373400-1630380600@portofkingston.org
SUMMARY:Port of Kingston Commission Work Session
DESCRIPTION:Commissioners in concert with Port Staff hold weekly work study sessions to conduct Port business.  These meetings are open to the public\, however they are not open for public comment; the public is welcome to sit and listen only.  Public comment is taken at the Port of Kingston’s monthly Regular Commission Meetings. \n\nThere are no agenda’s for work study sessions. \n\nThis meeting will be offered remotely through Zoom  \nJoin Zoom Meeting\nhttps://us02web.zoom.us/j/85044989231 \nMeeting ID: 850 4498 9231\nOne tap mobile\n+12532158782\,\,85044989231# US (Tacoma)\n+16699006833\,\,85044989231# US (San Jose) \nDial by your location\n+1 253 215 8782 US (Tacoma)\n+1 669 900 6833 US (San Jose)\n+1 346 248 7799 US (Houston)\n+1 312 626 6799 US (Chicago)\n+1 929 205 6099 US (New York)\n+1 301 715 8592 US (Washington D.C)\nMeeting ID: 850 4498 9231\nFind your local number: https://us02web.zoom.us/u/kcpu0k2R9C
URL:https://portofkingston.org/event/port-of-kingston-commissions-work-session-2-2-2-2-2-2-2-2-2-2-2-2-2-2-2-2-2-2-2-2-2-2-2-2-2-2-2-2-2-2-2-2-2/
LOCATION:WA
END:VEVENT
BEGIN:VEVENT
DTSTART;TZID=America/Los_Angeles:20210829T030000
DTEND;TZID=America/Los_Angeles:20210829T080000
DTSTAMP:20260421T054432
CREATED:20210416T000644Z
LAST-MODIFIED:20210416T000644Z
UID:9231-1630206000-1630224000@portofkingston.org
SUMMARY:Kingston Public Market
DESCRIPTION:The Kingston Public Market is returning this year at the port! The market will be held on Sundays May 16th- October 3rd. Market hours are 10am- 3pm with live music until 2:30pm. For more information\, please visit www.TheKingstonPublicMarket.com
URL:https://portofkingston.org/event/kingston-public-market-7-2-2-2-2-2-2-2-2-2-2-2-2-2-2-2/
LOCATION:Port of Kingston\, 25864 Washington Blvd NE\, Kingston\, WA\, 98346\, United States
END:VEVENT
BEGIN:VEVENT
DTSTART;TZID=America/Los_Angeles:20210828T100000
DTEND;TZID=America/Los_Angeles:20210828T120000
DTSTAMP:20260421T054432
CREATED:20210723T024457Z
LAST-MODIFIED:20210723T024457Z
UID:9549-1630144800-1630152000@portofkingston.org
SUMMARY:Concerts on the Cove - Danny Vernon
DESCRIPTION:Join us for free concerts at the Port of Kingston Saturday’s from August 28 through September 18. Beer garden & food vendors open at 5pm. Music from 5 – 7 p.m. \nAugust 28 – Danny Vernon \nSeptember 4 – The Tropics \nSeptember 11 – Soul Siren \nSeptember 18 – Backstreet Jelly Roll 
URL:https://portofkingston.org/event/concerts-on-the-cove-backstreet-jellyroll-2-3/
LOCATION:Port of Kingston
ATTACH;FMTTYPE=image/jpeg:https://portofkingston.org/wp-content/uploads/2021/07/Danny-Vernon.jpg
END:VEVENT
BEGIN:VEVENT
DTSTART;TZID=America/Los_Angeles:20210825T113000
DTEND;TZID=America/Los_Angeles:20210825T133000
DTSTAMP:20260421T054432
CREATED:20210721T230213Z
LAST-MODIFIED:20210825T050336Z
UID:9476-1629891000-1629898200@portofkingston.org
SUMMARY:Regular Commission Meeting
DESCRIPTION:Port of Kingston Regular Commission Meetings are held monthly to conduct regular Port business.  An agenda will be posted as soon as available before each meeting.  If any member of the public would like to be placed on the agenda\, please contact the Port Administrative Office.  Contact information is available on the contact tab of this website. \nMeeting Agenda  \nThis meeting will be held in person and offered via Zoom \nJoin Zoom Meeting\nhttps://us02web.zoom.us/j/84610893159 \nMeeting ID: 846 1089 3159\nOne tap mobile\n+12532158782\,\,84610893159# US (Tacoma)\n+16699006833\,\,84610893159# US (San Jose) \nDial by your location\n+1 253 215 8782 US (Tacoma)\n+1 669 900 6833 US (San Jose)\n+1 346 248 7799 US (Houston)\n+1 301 715 8592 US (Washington DC)\n+1 312 626 6799 US (Chicago)\n+1 929 205 6099 US (New York)\nMeeting ID: 846 1089 3159\nFind your local number: https://us02web.zoom.us/u/kb1CROqbmU \n 
URL:https://portofkingston.org/event/regular-commission-meeting/
LOCATION:Village Green Community Center\, 26159 Dulay Road NE\, Kingston\, WA\, 98346\, United States
END:VEVENT
BEGIN:VEVENT
DTSTART;TZID=America/Los_Angeles:20210824T013000
DTEND;TZID=America/Los_Angeles:20210824T033000
DTSTAMP:20260421T054432
CREATED:20210720T232924Z
LAST-MODIFIED:20210720T232936Z
UID:9462-1629768600-1629775800@portofkingston.org
SUMMARY:Port of Kingston Commission Work Session
DESCRIPTION:Commissioners in concert with Port Staff hold weekly work study sessions to conduct Port business.  These meetings are open to the public\, however they are not open for public comment; the public is welcome to sit and listen only.  Public comment is taken at the Port of Kingston’s monthly Regular Commission Meetings. \n\nThere are no agenda’s for work study sessions. \n\nThis meeting will be offered remotely through Zoom  \nJoin Zoom Meeting\nhttps://us02web.zoom.us/j/85044989231 \nMeeting ID: 850 4498 9231\nOne tap mobile\n+12532158782\,\,85044989231# US (Tacoma)\n+16699006833\,\,85044989231# US (San Jose) \nDial by your location\n+1 253 215 8782 US (Tacoma)\n+1 669 900 6833 US (San Jose)\n+1 346 248 7799 US (Houston)\n+1 312 626 6799 US (Chicago)\n+1 929 205 6099 US (New York)\n+1 301 715 8592 US (Washington D.C)\nMeeting ID: 850 4498 9231\nFind your local number: https://us02web.zoom.us/u/kcpu0k2R9C
URL:https://portofkingston.org/event/port-of-kingston-commissions-work-session-2-2-2-2-2-2-2-2-2-2-2-2-2-2-2-2-2-2-2-2-2-2-2-2-2-2-2-2-2-2-2-2/
LOCATION:WA
END:VEVENT
BEGIN:VEVENT
DTSTART;TZID=America/Los_Angeles:20210822T030000
DTEND;TZID=America/Los_Angeles:20210822T080000
DTSTAMP:20260421T054432
CREATED:20210416T000457Z
LAST-MODIFIED:20210416T000458Z
UID:9229-1629601200-1629619200@portofkingston.org
SUMMARY:Kingston Public Market
DESCRIPTION:The Kingston Public Market is returning this year at the port! The market will be held on Sundays May 16th- October 3rd. Market hours are 10am- 3pm with live music until 2:30pm. For more information\, please visit www.TheKingstonPublicMarket.com
URL:https://portofkingston.org/event/kingston-public-market-7-2-2-2-2-2-2-2-2-2-2-2-2-2-2/
LOCATION:Port of Kingston\, 25864 Washington Blvd NE\, Kingston\, WA\, 98346\, United States
END:VEVENT
BEGIN:VEVENT
DTSTART;TZID=America/Los_Angeles:20210821T100000
DTEND;TZID=America/Los_Angeles:20210821T120000
DTSTAMP:20260421T054432
CREATED:20210805T053837Z
LAST-MODIFIED:20210812T033904Z
UID:9588-1629540000-1629547200@portofkingston.org
SUMMARY:Concerts on the Cove - The Big Bear Band
DESCRIPTION:Join us for free concerts at the Port of Kingston Saturday’s from August 28 through September 18. Beer garden & food vendors open at 5pm. Music from 5 – 7 p.m. \nAugust 21 – The Big Bear Band \nAugust 28 – Danny Vernon \nSeptember 4 – The Tropics \nSeptember 11 – Soul Siren \nSeptember 18 – Backstreet Jelly Roll 
URL:https://portofkingston.org/event/concerts-on-the-cove-backstreet-jellyroll-2-3-2/
LOCATION:Port of Kingston
END:VEVENT
BEGIN:VEVENT
DTSTART;VALUE=DATE:20210820
DTEND;VALUE=DATE:20210822
DTSTAMP:20260421T054432
CREATED:20210723T021828Z
LAST-MODIFIED:20210723T024608Z
UID:9536-1629478800-1629565199@portofkingston.org
SUMMARY:Kingston Wine Walk & Brew Fest
DESCRIPTION:We’re doing things a little differently this year\, but we are excited for the 2021 version of this Kingston favorite! \nFor more information or to volunteer for this event\, please contact the Chamber at director@kingstonchamber.com
URL:https://portofkingston.org/event/kingston-wine-walk-brew-fest/
LOCATION:WA
ATTACH;FMTTYPE=image/jpeg:https://portofkingston.org/wp-content/uploads/2021/07/download.jpg
END:VEVENT
END:VCALENDAR