BEGIN:VCALENDAR
VERSION:2.0
PRODID:-//Port of Kingston - ECPv6.15.20//NONSGML v1.0//EN
CALSCALE:GREGORIAN
METHOD:PUBLISH
X-WR-CALNAME:Port of Kingston
X-ORIGINAL-URL:https://portofkingston.org
X-WR-CALDESC:Events for Port of Kingston
REFRESH-INTERVAL;VALUE=DURATION:PT1H
X-Robots-Tag:noindex
X-PUBLISHED-TTL:PT1H
BEGIN:VTIMEZONE
TZID:America/Los_Angeles
BEGIN:DAYLIGHT
TZOFFSETFROM:-0800
TZOFFSETTO:-0700
TZNAME:PDT
DTSTART:20220313T100000
END:DAYLIGHT
BEGIN:STANDARD
TZOFFSETFROM:-0700
TZOFFSETTO:-0800
TZNAME:PST
DTSTART:20221106T090000
END:STANDARD
BEGIN:DAYLIGHT
TZOFFSETFROM:-0800
TZOFFSETTO:-0700
TZNAME:PDT
DTSTART:20230312T100000
END:DAYLIGHT
BEGIN:STANDARD
TZOFFSETFROM:-0700
TZOFFSETTO:-0800
TZNAME:PST
DTSTART:20231105T090000
END:STANDARD
BEGIN:DAYLIGHT
TZOFFSETFROM:-0800
TZOFFSETTO:-0700
TZNAME:PDT
DTSTART:20240310T100000
END:DAYLIGHT
BEGIN:STANDARD
TZOFFSETFROM:-0700
TZOFFSETTO:-0800
TZNAME:PST
DTSTART:20241103T090000
END:STANDARD
END:VTIMEZONE
BEGIN:VEVENT
DTSTART;TZID=America/Los_Angeles:20230507T030000
DTEND;TZID=America/Los_Angeles:20230507T080000
DTSTAMP:20260422T144807
CREATED:20230501T094624Z
LAST-MODIFIED:20230501T094631Z
UID:12886-1683428400-1683446400@portofkingston.org
SUMMARY:Kingston Public Market
DESCRIPTION:
URL:https://portofkingston.org/event/kingston-public-market-37/
LOCATION:Mike Wallace Marina Park\, 25864 Washington Blvd NE\, Kingston\, WA\, 98346\, United States
ORGANIZER;CN="Kingston Public Market":MAILTO:thekingstonpublicmarket@gmail.com
END:VEVENT
BEGIN:VEVENT
DTSTART;TZID=America/Los_Angeles:20230509T013000
DTEND;TZID=America/Los_Angeles:20230509T033000
DTSTAMP:20260422T144807
CREATED:20230105T024324Z
LAST-MODIFIED:20230105T024324Z
UID:11696-1683595800-1683603000@portofkingston.org
SUMMARY:Port of Kingston Commission Work Session
DESCRIPTION:Meeting will be hosted in person at the Port of Kingston Administrative Office\, 2nd Floor Conference Room. If you are unable to attend in person. please join via the Zoom link below. \nCommissioners in concert with Port Staff hold weekly work sessions to conduct Port business. \nPort of Kingston is inviting you to a scheduled Zoom meeting. \nTopic: Work Session \nMay 9\, 2023 08:30 AM Pacific Time (US and Canada) \nPlease download and import the following iCalendar (.ics) files to your calendar system. \nWeekly: https://us02web.zoom.us/meeting/tZ0qf-igqD0oHdYKvSoDE42C0EQ1nctoexQ9/ics?icsToken=98tyKuGhqTMrEtKTsh6FRpx5B4qgd_zwpiFBgqdktwnWDAR2NlHVZsdzY7x8BNfV \nJoin Zoom Meeting \nhttps://us02web.zoom.us/j/89781866272 \nMeeting ID: 897 8186 6272 \nOne tap mobile – \n+12532050468\,\,89781866272# US \n+12532158782\,\,89781866272# US (Tacoma)
URL:https://portofkingston.org/event/port-of-kingston-commission-work-session-72/
LOCATION:Port of Kingston\, 2nd Floor Conference Room\, 25864 Washington Blvd\, Kingston\, WA - Washington\, 98346
END:VEVENT
BEGIN:VEVENT
DTSTART;TZID=America/Los_Angeles:20230514T030000
DTEND;TZID=America/Los_Angeles:20230514T080000
DTSTAMP:20260422T144807
CREATED:20230329T032208Z
LAST-MODIFIED:20230329T032208Z
UID:12642-1684033200-1684051200@portofkingston.org
SUMMARY:Kingston Public Market
DESCRIPTION:
URL:https://portofkingston.org/event/kingston-public-market-30/
LOCATION:Mike Wallace Marina Park\, 25864 Washington Blvd NE\, Kingston\, WA\, 98346\, United States
ORGANIZER;CN="Kingston Public Market":MAILTO:thekingstonpublicmarket@gmail.com
END:VEVENT
BEGIN:VEVENT
DTSTART;TZID=America/Los_Angeles:20230516T020000
DTEND;TZID=America/Los_Angeles:20230516T030000
DTSTAMP:20260422T144807
CREATED:20230105T024509Z
LAST-MODIFIED:20230523T033102Z
UID:11698-1684202400-1684206000@portofkingston.org
SUMMARY:Port of Kingston Commission Work Session
DESCRIPTION:Meeting will be hosted in person at the Port of Kingston Administrative Office\, 2nd Floor Conference Room. If you are unable to attend in person. please join via the Zoom link below. \nCommissioners in concert with Port Staff hold weekly work sessions to conduct Port business. \nPort of Kingston is inviting you to a scheduled Zoom meeting. \nTopic: Work Session \nMay 16\, 2023 09:00 AM Pacific Time (US and Canada) \nPlease download and import the following iCalendar (.ics) files to your calendar system. \nWeekly: https://us02web.zoom.us/meeting/tZ0qf-igqD0oHdYKvSoDE42C0EQ1nctoexQ9/ics?icsToken=98tyKuGhqTMrEtKTsh6FRpx5B4qgd_zwpiFBgqdktwnWDAR2NlHVZsdzY7x8BNfV \nJoin Zoom Meeting \nhttps://us02web.zoom.us/j/89781866272 \nMeeting ID: 897 8186 6272 \nOne tap mobile – \n+12532050468\,\,89781866272# US \n+12532158782\,\,89781866272# US (Tacoma)
URL:https://portofkingston.org/event/port-of-kingston-commission-work-session-73/
LOCATION:Port of Kingston\, 2nd Floor Conference Room\, 25864 Washington Blvd\, Kingston\, WA - Washington\, 98346
END:VEVENT
BEGIN:VEVENT
DTSTART;TZID=America/Los_Angeles:20230521T030000
DTEND;TZID=America/Los_Angeles:20230521T080000
DTSTAMP:20260422T144807
CREATED:20230329T032302Z
LAST-MODIFIED:20230519T041512Z
UID:12644-1684638000-1684656000@portofkingston.org
SUMMARY:Kingston Public Market
DESCRIPTION:
URL:https://portofkingston.org/event/kingston-public-market-31/
LOCATION:Mike Wallace Marina Park\, 25864 Washington Blvd NE\, Kingston\, WA\, 98346\, United States
ORGANIZER;CN="Kingston Public Market":MAILTO:thekingstonpublicmarket@gmail.com
END:VEVENT
BEGIN:VEVENT
DTSTART;TZID=America/Los_Angeles:20230521T030000
DTEND;TZID=America/Los_Angeles:20230521T080000
DTSTAMP:20260422T144807
CREATED:20230519T042114Z
LAST-MODIFIED:20230519T042114Z
UID:13122-1684638000-1684656000@portofkingston.org
SUMMARY:Kites Over the Market
DESCRIPTION:Come on down to the Kingston Public Market to build and fly kites with Kingston Cub Scouts Pack 4555! \nKite kits available with a $2 donation to the Cub Scouts.
URL:https://portofkingston.org/event/kites-over-the-market/
LOCATION:Mike Wallace Marina Park\, 25864 Washington Blvd NE\, Kingston\, WA\, 98346\, United States
END:VEVENT
BEGIN:VEVENT
DTSTART;TZID=America/Los_Angeles:20230523T020000
DTEND;TZID=America/Los_Angeles:20230523T030000
DTSTAMP:20260422T144807
CREATED:20230105T024818Z
LAST-MODIFIED:20230523T032910Z
UID:11700-1684807200-1684810800@portofkingston.org
SUMMARY:Port of Kingston Commission Work Session
DESCRIPTION:Meeting will be hosted in person at the Port of Kingston Administrative Office\, 2nd Floor Conference Room. If you are unable to attend in person. please join via the Zoom link below. \nCommissioners in concert with Port Staff hold weekly work sessions to conduct Port business. \nPort of Kingston is inviting you to a scheduled Zoom meeting. \nTopic: Work Session \nMay 23\, 2023 09:00 AM Pacific Time (US and Canada) \nPlease download and import the following iCalendar (.ics) files to your calendar system. \nWeekly: https://us02web.zoom.us/meeting/tZ0qf-igqD0oHdYKvSoDE42C0EQ1nctoexQ9/ics?icsToken=98tyKuGhqTMrEtKTsh6FRpx5B4qgd_zwpiFBgqdktwnWDAR2NlHVZsdzY7x8BNfV \nJoin Zoom Meeting \nhttps://us02web.zoom.us/j/89781866272 \nMeeting ID: 897 8186 6272 \nOne tap mobile – \n+12532050468\,\,89781866272# US \n+12532158782\,\,89781866272# US (Tacoma)
URL:https://portofkingston.org/event/port-of-kingston-commission-work-session-74/
LOCATION:Port of Kingston\, 2nd Floor Conference Room\, 25864 Washington Blvd\, Kingston\, WA - Washington\, 98346
END:VEVENT
BEGIN:VEVENT
DTSTART;TZID=America/Los_Angeles:20230524T060000
DTEND;TZID=America/Los_Angeles:20230524T080000
DTSTAMP:20260422T144807
CREATED:20230105T043700Z
LAST-MODIFIED:20230105T043700Z
UID:11776-1684908000-1684915200@portofkingston.org
SUMMARY:Port of Kingston Regular Commission Meeting
DESCRIPTION:Meeting will be hosted in person at the Village Green Community Center. If you are unable to attend in person\, please join via the Zoom link below\nPort of Kingston is inviting you to a scheduled Zoom meeting. \nTopic: Regular Commission Meeting \nTime: May 24\, 2023 01:00 PM \nPlease download and import the following iCalendar (.ics) files to your calendar system. \nMonthly: https://us02web.zoom.us/meeting/tZYvdeiqqzgiH9HKZoJjkuV1TRbb5HWO0NOG/ics?icsToken=98tyKuGqrDkrGNGWuByCRpwQAIjod-rwmHZHgvp1tyXqKSpYdzWnAtBAMOdXJ_eA \nJoin Zoom Meeting \nhttps://us02web.zoom.us/j/82221253855 \nMeeting ID: 822 2125 3855 \nOne tap mobile \n+12532158782\,\,82221253855# US (Tacoma) \n+16694449171\,\,82221253855# US
URL:https://portofkingston.org/event/port-of-kingston-regular-commission-meeting-37/
LOCATION:Village Green Community Center\, 26159 Dulay Road NE\, Kingston\, WA\, 98346\, United States
END:VEVENT
BEGIN:VEVENT
DTSTART;TZID=America/Los_Angeles:20230528T030000
DTEND;TZID=America/Los_Angeles:20230528T080000
DTSTAMP:20260422T144807
CREATED:20230329T032419Z
LAST-MODIFIED:20230329T032419Z
UID:12646-1685242800-1685260800@portofkingston.org
SUMMARY:Kingston Public Market
DESCRIPTION:
URL:https://portofkingston.org/event/kingston-public-market-32/
LOCATION:Mike Wallace Marina Park\, 25864 Washington Blvd NE\, Kingston\, WA\, 98346\, United States
ORGANIZER;CN="Kingston Public Market":MAILTO:thekingstonpublicmarket@gmail.com
END:VEVENT
BEGIN:VEVENT
DTSTART;VALUE=DATE:20230528
DTEND;VALUE=DATE:20230530
DTSTAMP:20260422T144807
CREATED:20230519T051814Z
LAST-MODIFIED:20230519T051814Z
UID:13135-1685293200-1685379599@portofkingston.org
SUMMARY:Memorial Day
DESCRIPTION:The Port office will be open for business normal hours\, 8AM-5PM.
URL:https://portofkingston.org/event/memorial-day/
LOCATION:WA
END:VEVENT
BEGIN:VEVENT
DTSTART;TZID=America/Los_Angeles:20230530T020000
DTEND;TZID=America/Los_Angeles:20230530T030000
DTSTAMP:20260422T144807
CREATED:20230105T025010Z
LAST-MODIFIED:20230523T032636Z
UID:11702-1685412000-1685415600@portofkingston.org
SUMMARY:Port of Kingston Commission Work Session
DESCRIPTION:Meeting will be hosted in person at the Port of Kingston Administrative Office\, 2nd Floor Conference Room. If you are unable to attend in person. please join via the Zoom link below. \nCommissioners in concert with Port Staff hold weekly work sessions to conduct Port business. \nPort of Kingston is inviting you to a scheduled Zoom meeting. \nTopic: Work Session \nMay 30\, 2023 09:00 AM Pacific Time (US and Canada) \nPlease download and import the following iCalendar (.ics) files to your calendar system. \nWeekly: https://us02web.zoom.us/meeting/tZ0qf-igqD0oHdYKvSoDE42C0EQ1nctoexQ9/ics?icsToken=98tyKuGhqTMrEtKTsh6FRpx5B4qgd_zwpiFBgqdktwnWDAR2NlHVZsdzY7x8BNfV \nJoin Zoom Meeting \nhttps://us02web.zoom.us/j/89781866272 \nMeeting ID: 897 8186 6272 \nOne tap mobile – \n+12532050468\,\,89781866272# US \n+12532158782\,\,89781866272# US (Tacoma)
URL:https://portofkingston.org/event/port-of-kingston-commission-work-session-75/
LOCATION:Port of Kingston\, 2nd Floor Conference Room\, 25864 Washington Blvd\, Kingston\, WA - Washington\, 98346
END:VEVENT
BEGIN:VEVENT
DTSTART;TZID=America/Los_Angeles:20230603T100000
DTEND;TZID=America/Los_Angeles:20230603T140000
DTSTAMP:20260422T144807
CREATED:20230203T062840Z
LAST-MODIFIED:20230519T042756Z
UID:12044-1685786400-1685800800@portofkingston.org
SUMMARY:Kingston Kiwanis Brewfest & Benefit Concert
DESCRIPTION:
URL:https://portofkingston.org/event/kingston-kiwanis-brewfest/
LOCATION:Mike Wallace Marina Park\, 25864 Washington Blvd NE\, Kingston\, WA\, 98346\, United States
END:VEVENT
BEGIN:VEVENT
DTSTART;TZID=America/Los_Angeles:20230604T030000
DTEND;TZID=America/Los_Angeles:20230604T080000
DTSTAMP:20260422T144807
CREATED:20230329T032605Z
LAST-MODIFIED:20230329T032605Z
UID:12648-1685847600-1685865600@portofkingston.org
SUMMARY:Kingston Public Market
DESCRIPTION:
URL:https://portofkingston.org/event/kingston-public-market-33/
LOCATION:Mike Wallace Marina Park\, 25864 Washington Blvd NE\, Kingston\, WA\, 98346\, United States
ORGANIZER;CN="Kingston Public Market":MAILTO:thekingstonpublicmarket@gmail.com
END:VEVENT
BEGIN:VEVENT
DTSTART;TZID=America/Los_Angeles:20230608T090000
DTEND;TZID=America/Los_Angeles:20230608T130000
DTSTAMP:20260422T144807
CREATED:20230519T051523Z
LAST-MODIFIED:20230519T051636Z
UID:13131-1686214800-1686229200@portofkingston.org
SUMMARY:4th of July Fireworks Fundraiser
DESCRIPTION:
URL:https://portofkingston.org/event/4th-of-july-fireworks-fundraiser/
LOCATION:Westside Pizza Kingston\, 25960 Ohio Ave NE STE 102\, Kingston\, WA\, 9346
ORGANIZER;CN="Kingston 4th of July":MAILTO:kingston4thofjuly@gmail.com
END:VEVENT
BEGIN:VEVENT
DTSTART;TZID=America/Los_Angeles:20230609T030000
DTEND;TZID=America/Los_Angeles:20230609T060000
DTSTAMP:20260422T144807
CREATED:20230608T020743Z
LAST-MODIFIED:20230608T020743Z
UID:13340-1686279600-1686290400@portofkingston.org
SUMMARY:Private Event
DESCRIPTION:
URL:https://portofkingston.org/event/private-event-2/
LOCATION:Port of Kingston Kiwanis Park Gazebo
END:VEVENT
BEGIN:VEVENT
DTSTART;TZID=America/Los_Angeles:20230610T063000
DTEND;TZID=America/Los_Angeles:20230610T103000
DTSTAMP:20260422T144807
CREATED:20230608T020901Z
LAST-MODIFIED:20230608T020901Z
UID:13343-1686378600-1686393000@portofkingston.org
SUMMARY:Private Event
DESCRIPTION:
URL:https://portofkingston.org/event/private-event-3/
LOCATION:Mike Wallace Park Event Tent
END:VEVENT
BEGIN:VEVENT
DTSTART;TZID=America/Los_Angeles:20230611T030000
DTEND;TZID=America/Los_Angeles:20230611T080000
DTSTAMP:20260422T144807
CREATED:20230329T032745Z
LAST-MODIFIED:20230329T032745Z
UID:12653-1686452400-1686470400@portofkingston.org
SUMMARY:Kingston Public Market
DESCRIPTION:
URL:https://portofkingston.org/event/kingston-public-market-34/
LOCATION:Mike Wallace Marina Park\, 25864 Washington Blvd NE\, Kingston\, WA\, 98346\, United States
ORGANIZER;CN="Kingston Public Market":MAILTO:thekingstonpublicmarket@gmail.com
END:VEVENT
BEGIN:VEVENT
DTSTART;TZID=America/Los_Angeles:20230613T020000
DTEND;TZID=America/Los_Angeles:20230613T031500
DTSTAMP:20260422T144807
CREATED:20230105T025404Z
LAST-MODIFIED:20230613T064047Z
UID:11706-1686621600-1686626100@portofkingston.org
SUMMARY:Port of Kingston Commission Work Session
DESCRIPTION:Meeting will be hosted in person at the Port of Kingston Administrative Office\, 2nd Floor Conference Room. If you are unable to attend in person. please join via the Zoom link below. \nCommissioners in concert with Port Staff hold weekly work sessions to conduct Port business. \nPort of Kingston is inviting you to a scheduled Zoom meeting. \nTopic: Work Session \nJune 13\, 2023 09:00 AM Pacific Time (US and Canada) \nPlease download and import the following iCalendar (.ics) files to your calendar system. \nWeekly: https://us02web.zoom.us/meeting/tZ0qf-igqD0oHdYKvSoDE42C0EQ1nctoexQ9/ics?icsToken=98tyKuGhqTMrEtKTsh6FRpx5B4qgd_zwpiFBgqdktwnWDAR2NlHVZsdzY7x8BNfV \nJoin Zoom Meeting \nhttps://us02web.zoom.us/j/89781866272 \nMeeting ID: 897 8186 6272 \nOne tap mobile – \n+12532050468\,\,89781866272# US \n+12532158782\,\,89781866272# US (Tacoma)
URL:https://portofkingston.org/event/port-of-kingston-commission-work-session-77/
LOCATION:Port of Kingston\, 2nd Floor Conference Room\, 25864 Washington Blvd\, Kingston\, WA - Washington\, 98346
END:VEVENT
BEGIN:VEVENT
DTSTART;TZID=America/Los_Angeles:20230613T031500
DTEND;TZID=America/Los_Angeles:20230613T033000
DTSTAMP:20260422T144807
CREATED:20230613T064450Z
LAST-MODIFIED:20230613T064553Z
UID:13362-1686626100-1686627000@portofkingston.org
SUMMARY:Special Session
DESCRIPTION:Topic: Special Session \nJune 13\, 2023 10:15 AM Pacific Time (US and Canada) \nWeekly: https://us02web.zoom.us/meeting/tZ0qf-igqD0oHdYKvSoDE42C0EQ1nctoexQ9/ics?icsToken=98tyKuGhqTMrEtKTsh6FRpx5B4qgd_zwpiFBgqdktwnWDAR2NlHVZsdzY7x8BNfV \nJoin Zoom Meeting \nhttps://us02web.zoom.us/j/89781866272 \nMeeting ID: 897 8186 6272 \nOne tap mobile – \n+12532050468\,\,89781866272# US \n+12532158782\,\,89781866272# US (Tacoma)
URL:https://portofkingston.org/event/special-session/
LOCATION:Village Green Community Center\, 26159 Dulay Road NE\, Kingston\, WA\, 98346\, United States
END:VEVENT
BEGIN:VEVENT
DTSTART;TZID=America/Los_Angeles:20230615T040000
DTEND;TZID=America/Los_Angeles:20230615T043000
DTSTAMP:20260422T144807
CREATED:20230614T231631Z
LAST-MODIFIED:20230615T050136Z
UID:13375-1686801600-1686803400@portofkingston.org
SUMMARY:Special Session
DESCRIPTION:Special Session\nJune 15th 11:00-11:30am\nPort of Kingston Office\nZOOM : https://us02web.zoom.us/j/81034765382\nMEETING ID: 810 3476 5382\n 
URL:https://portofkingston.org/event/special-session-2/
LOCATION:Port of Kingston
END:VEVENT
BEGIN:VEVENT
DTSTART;TZID=America/Los_Angeles:20230616T050000
DTEND;TZID=America/Los_Angeles:20230616T090000
DTSTAMP:20260422T144807
CREATED:20230608T021001Z
LAST-MODIFIED:20230608T021001Z
UID:13346-1686891600-1686906000@portofkingston.org
SUMMARY:Private Event
DESCRIPTION:
URL:https://portofkingston.org/event/private-event-4/
LOCATION:Mike Wallace Park Event Tent
END:VEVENT
BEGIN:VEVENT
DTSTART;TZID=America/Los_Angeles:20230617T030000
DTEND;TZID=America/Los_Angeles:20230617T110000
DTSTAMP:20260422T144807
CREATED:20230328T040225Z
LAST-MODIFIED:20230519T060400Z
UID:12607-1686970800-1686999600@portofkingston.org
SUMMARY:Kingston Pirate Festival
DESCRIPTION:
URL:https://portofkingston.org/event/kingston-pirate-festival/
LOCATION:Mike Wallace Marina Park\, 25864 Washington Blvd NE\, Kingston\, WA\, 98346\, United States
ORGANIZER;CN="Lucky Star Consignment Store":MAILTO:Stacy@luckystarclothing.com
END:VEVENT
BEGIN:VEVENT
DTSTART;TZID=America/Los_Angeles:20230618T030000
DTEND;TZID=America/Los_Angeles:20230618T080000
DTSTAMP:20260422T144807
CREATED:20230329T032829Z
LAST-MODIFIED:20230607T010239Z
UID:12655-1687057200-1687075200@portofkingston.org
SUMMARY:Kingston Public Market - Father's Day Live Music
DESCRIPTION:Father’s Day\n\n\nLIVE MUSIC\n10:30-12:30 Mike Murray\n12:30-2:30 Mark Holman
URL:https://portofkingston.org/event/kingston-public-market-35/
LOCATION:Mike Wallace Marina Park\, 25864 Washington Blvd NE\, Kingston\, WA\, 98346\, United States
ORGANIZER;CN="Kingston Public Market":MAILTO:thekingstonpublicmarket@gmail.com
END:VEVENT
BEGIN:VEVENT
DTSTART;TZID=America/Los_Angeles:20230620T020000
DTEND;TZID=America/Los_Angeles:20230620T033000
DTSTAMP:20260422T144807
CREATED:20230105T025522Z
LAST-MODIFIED:20230613T060231Z
UID:11708-1687226400-1687231800@portofkingston.org
SUMMARY:Port of Kingston Commission Work Session
DESCRIPTION:Meeting will be hosted in person at the Port of Kingston Administrative Office\, 2nd Floor Conference Room. If you are unable to attend in person. please join via the Zoom link below. \nCommissioners in concert with Port Staff hold weekly work sessions to conduct Port business. \nPort of Kingston is inviting you to a scheduled Zoom meeting. \nTopic: Work Session \nJune 20\, 2023 09:00 AM Pacific Time (US and Canada) \nPlease download and import the following iCalendar (.ics) files to your calendar system. \nWeekly: https://us02web.zoom.us/meeting/tZ0qf-igqD0oHdYKvSoDE42C0EQ1nctoexQ9/ics?icsToken=98tyKuGhqTMrEtKTsh6FRpx5B4qgd_zwpiFBgqdktwnWDAR2NlHVZsdzY7x8BNfV \nJoin Zoom Meeting \nhttps://us02web.zoom.us/j/89781866272 \nMeeting ID: 897 8186 6272 \nOne tap mobile – \n+12532050468\,\,89781866272# US \n+12532158782\,\,89781866272# US (Tacoma)
URL:https://portofkingston.org/event/port-of-kingston-commission-work-session-78/
LOCATION:Port of Kingston\, 2nd Floor Conference Room\, 25864 Washington Blvd\, Kingston\, WA - Washington\, 98346
END:VEVENT
BEGIN:VEVENT
DTSTART;TZID=America/Los_Angeles:20230625T030000
DTEND;TZID=America/Los_Angeles:20230625T080000
DTSTAMP:20260422T144807
CREATED:20230329T034241Z
LAST-MODIFIED:20230329T034241Z
UID:12656-1687662000-1687680000@portofkingston.org
SUMMARY:Kingston Public Market
DESCRIPTION:
URL:https://portofkingston.org/event/kingston-public-market-36/
LOCATION:Mike Wallace Marina Park\, 25864 Washington Blvd NE\, Kingston\, WA\, 98346\, United States
ORGANIZER;CN="Kingston Public Market":MAILTO:thekingstonpublicmarket@gmail.com
END:VEVENT
BEGIN:VEVENT
DTSTART;TZID=America/Los_Angeles:20230627T020000
DTEND;TZID=America/Los_Angeles:20230627T033000
DTSTAMP:20260422T144807
CREATED:20230504T025338Z
LAST-MODIFIED:20230613T060045Z
UID:12996-1687831200-1687836600@portofkingston.org
SUMMARY:Port of Kingston Commission Work Session
DESCRIPTION:Meeting will be hosted in person at the Port of Kingston Administrative Office\, 2nd Floor Conference Room. If you are unable to attend in person. please join via the Zoom link below. \nCommissioners in concert with Port Staff hold weekly work sessions to conduct Port business. \nPort of Kingston is inviting you to a scheduled Zoom meeting. \nTopic: Work Session \n09:00 AM Pacific Time (US and Canada) \nPlease download and import the following iCalendar (.ics) files to your calendar system. \nWeekly: https://us02web.zoom.us/meeting/tZ0qf-igqD0oHdYKvSoDE42C0EQ1nctoexQ9/ics?icsToken=98tyKuGhqTMrEtKTsh6FRpx5B4qgd_zwpiFBgqdktwnWDAR2NlHVZsdzY7x8BNfV \nJoin Zoom Meeting \nhttps://us02web.zoom.us/j/89781866272 \nMeeting ID: 897 8186 6272 \nOne tap mobile – \n+12532050468\,\,89781866272# US \n+12532158782\,\,89781866272# US (Tacoma)
URL:https://portofkingston.org/event/port-of-kingston-commission-work-session-102/
LOCATION:Port of Kingston\, 2nd Floor Conference Room\, 25864 Washington Blvd\, Kingston\, WA - Washington\, 98346
END:VEVENT
BEGIN:VEVENT
DTSTART;TZID=America/Los_Angeles:20230627T110000
DTEND;TZID=America/Los_Angeles:20230627T123000
DTSTAMP:20260422T144807
CREATED:20230623T054204Z
LAST-MODIFIED:20230623T054209Z
UID:13536-1687863600-1687869000@portofkingston.org
SUMMARY:Proposed North Kitsap Sports and Recreation Campus
DESCRIPTION:
URL:https://portofkingston.org/event/proposed-north-kitsap-sports-and-recreation-campus/
LOCATION:North Kitsap High School\, 1881 NE Hostmark Street\, Poulsbo\, 98370\, United States
END:VEVENT
BEGIN:VEVENT
DTSTART;TZID=America/Los_Angeles:20230628T113000
DTEND;TZID=America/Los_Angeles:20230628T133000
DTSTAMP:20260422T144807
CREATED:20230105T043806Z
LAST-MODIFIED:20230105T043806Z
UID:11778-1687951800-1687959000@portofkingston.org
SUMMARY:Port of Kingston Regular Commission Meeting
DESCRIPTION:Meeting will be hosted in person at the Village Green Community Center. If you are unable to attend in person\, please join via the Zoom link below\nPort of Kingston is inviting you to a scheduled Zoom meeting. \nTopic: Regular Commission Meeting \nTime: June 28\, 2023 06:30 PM \nPlease download and import the following iCalendar (.ics) files to your calendar system. \nMonthly: https://us02web.zoom.us/meeting/tZYvdeiqqzgiH9HKZoJjkuV1TRbb5HWO0NOG/ics?icsToken=98tyKuGqrDkrGNGWuByCRpwQAIjod-rwmHZHgvp1tyXqKSpYdzWnAtBAMOdXJ_eA \nJoin Zoom Meeting \nhttps://us02web.zoom.us/j/82221253855 \nMeeting ID: 822 2125 3855 \nOne tap mobile \n+12532158782\,\,82221253855# US (Tacoma) \n+16694449171\,\,82221253855# US
URL:https://portofkingston.org/event/port-of-kingston-regular-commission-meeting-38/
LOCATION:Village Green Community Center\, 26159 Dulay Road NE\, Kingston\, WA\, 98346\, United States
END:VEVENT
BEGIN:VEVENT
DTSTART;TZID=America/Los_Angeles:20230701T040000
DTEND;TZID=America/Los_Angeles:20230701T070000
DTSTAMP:20260422T144807
CREATED:20230328T040735Z
LAST-MODIFIED:20230328T040735Z
UID:12611-1688184000-1688194800@portofkingston.org
SUMMARY:Kingston Booster BBQ and Baseball
DESCRIPTION:
URL:https://portofkingston.org/event/kingston-booster-bbq-and-baseball/
LOCATION:Mike Wallace Park\, Performing Arts Pavilion/Stage & Events Tent Facilities\, 25864 Washington Blvd. NE\, Kingston\, WA\, 98346\, United States
ORGANIZER;CN="Kingston High School Athletic Boosters":MAILTO:cb@cbsnuts.com
END:VEVENT
BEGIN:VEVENT
DTSTART;TZID=America/Los_Angeles:20230701T090000
DTEND;TZID=America/Los_Angeles:20230701T130000
DTSTAMP:20260422T144807
CREATED:20230621T062639Z
LAST-MODIFIED:20230621T063457Z
UID:13421-1688202000-1688216400@portofkingston.org
SUMMARY:Kingston's Sunset Market
DESCRIPTION:
URL:https://portofkingston.org/event/kingstons-sunset-market/
LOCATION:Thistle Floral and Home\, 25960 Central Rd NE\, Kingston\, WA\, 98346\, United States
ORGANIZER;CN="Kingstonsunsetmarket.com":MAILTO:contact@kingstonsunsetmarket.com
END:VEVENT
END:VCALENDAR