BEGIN:VCALENDAR
VERSION:2.0
PRODID:-//Port of Kingston - ECPv6.15.20//NONSGML v1.0//EN
CALSCALE:GREGORIAN
METHOD:PUBLISH
X-WR-CALNAME:Port of Kingston
X-ORIGINAL-URL:https://portofkingston.org
X-WR-CALDESC:Events for Port of Kingston
REFRESH-INTERVAL;VALUE=DURATION:PT1H
X-Robots-Tag:noindex
X-PUBLISHED-TTL:PT1H
BEGIN:VTIMEZONE
TZID:America/Los_Angeles
BEGIN:DAYLIGHT
TZOFFSETFROM:-0800
TZOFFSETTO:-0700
TZNAME:PDT
DTSTART:20230312T100000
END:DAYLIGHT
BEGIN:STANDARD
TZOFFSETFROM:-0700
TZOFFSETTO:-0800
TZNAME:PST
DTSTART:20231105T090000
END:STANDARD
BEGIN:DAYLIGHT
TZOFFSETFROM:-0800
TZOFFSETTO:-0700
TZNAME:PDT
DTSTART:20240310T100000
END:DAYLIGHT
BEGIN:STANDARD
TZOFFSETFROM:-0700
TZOFFSETTO:-0800
TZNAME:PST
DTSTART:20241103T090000
END:STANDARD
BEGIN:DAYLIGHT
TZOFFSETFROM:-0800
TZOFFSETTO:-0700
TZNAME:PDT
DTSTART:20250309T100000
END:DAYLIGHT
BEGIN:STANDARD
TZOFFSETFROM:-0700
TZOFFSETTO:-0800
TZNAME:PST
DTSTART:20251102T090000
END:STANDARD
END:VTIMEZONE
BEGIN:VEVENT
DTSTART;TZID=America/Los_Angeles:20241112T093000
DTEND;TZID=America/Los_Angeles:20241112T110000
DTSTAMP:20260421T171052
CREATED:20231102T215420Z
LAST-MODIFIED:20241112T174524Z
UID:14470-1731403800-1731409200@portofkingston.org
SUMMARY:CANCELLED - Port of Kingston Work Session
DESCRIPTION:Port of Kingston is inviting you to a scheduled Zoom meeting. \nTopic: Work Session\nTime: This is a recurring meeting Meet anytime \nJoin Zoom Meeting\nhttps://us02web.zoom.us/j/89781866272 \nMeeting ID: 897 8186 6272 \n— \nOne tap mobile\n+12532050468\,\,89781866272# US\n+12532158782\,\,89781866272# US (Tacoma) \n— \nDial by your location\n• +1 253 205 0468 US\n• +1 253 215 8782 US (Tacoma)\n• +1 346 248 7799 US (Houston)\n• +1 669 444 9171 US\n• +1 669 900 6833 US (San Jose)\n• +1 719 359 4580 US\n• +1 305 224 1968 US\n• +1 309 205 3325 US\n• +1 312 626 6799 US (Chicago)\n• +1 360 209 5623 US\n• +1 386 347 5053 US\n• +1 507 473 4847 US\n• +1 564 217 2000 US\n• +1 646 931 3860 US\n• +1 689 278 1000 US\n• +1 929 205 6099 US (New York)\n• +1 301 715 8592 US (Washington DC) \nMeeting ID: 897 8186 6272 \nFind your local number: https://us02web.zoom.us/u/klU0cjVVy \n 
URL:https://portofkingston.org/event/port-of-kingston-work-session-19/
LOCATION:Village Green Community Center\, 26159 Dulay Road NE\, Kingston\, WA\, 98346\, United States
END:VEVENT
END:VCALENDAR