BEGIN:VCALENDAR
VERSION:2.0
PRODID:-//Port of Kingston - ECPv6.15.20//NONSGML v1.0//EN
CALSCALE:GREGORIAN
METHOD:PUBLISH
X-WR-CALNAME:Port of Kingston
X-ORIGINAL-URL:https://portofkingston.org
X-WR-CALDESC:Events for Port of Kingston
REFRESH-INTERVAL;VALUE=DURATION:PT1H
X-Robots-Tag:noindex
X-PUBLISHED-TTL:PT1H
BEGIN:VTIMEZONE
TZID:America/Los_Angeles
BEGIN:DAYLIGHT
TZOFFSETFROM:-0800
TZOFFSETTO:-0700
TZNAME:PDT
DTSTART:20220313T100000
END:DAYLIGHT
BEGIN:STANDARD
TZOFFSETFROM:-0700
TZOFFSETTO:-0800
TZNAME:PST
DTSTART:20221106T090000
END:STANDARD
BEGIN:DAYLIGHT
TZOFFSETFROM:-0800
TZOFFSETTO:-0700
TZNAME:PDT
DTSTART:20230312T100000
END:DAYLIGHT
BEGIN:STANDARD
TZOFFSETFROM:-0700
TZOFFSETTO:-0800
TZNAME:PST
DTSTART:20231105T090000
END:STANDARD
BEGIN:DAYLIGHT
TZOFFSETFROM:-0800
TZOFFSETTO:-0700
TZNAME:PDT
DTSTART:20240310T100000
END:DAYLIGHT
BEGIN:STANDARD
TZOFFSETFROM:-0700
TZOFFSETTO:-0800
TZNAME:PST
DTSTART:20241103T090000
END:STANDARD
END:VTIMEZONE
BEGIN:VEVENT
DTSTART;TZID=America/Los_Angeles:20230715T060000
DTEND;TZID=America/Los_Angeles:20230715T100000
DTSTAMP:20260422T022704
CREATED:20230203T064232Z
LAST-MODIFIED:20230520T025223Z
UID:12050-1689400800-1689415200@portofkingston.org
SUMMARY:Kingston Wine and Brewfest
DESCRIPTION:The Greater Kingston Community Chamber of Commerce presents the Kingston Wine & Brew Fest 2023\, a one-day event. \nThis fundraiser is to enrich our local business community with opportunities to flourish in the years to come.  \nJoin us for live music\, wine\, brew\, food\, and other local vendors at this picturesque location! \nSignature glassware & swag bag provided to each attendee. \nTickets are $45 per person. \nDetails regarding ticket sales to follow.
URL:https://portofkingston.org/event/kingston-wine-and-brewfest/
LOCATION:Mike Wallace Marina Park\, 25864 Washington Blvd NE\, Kingston\, WA\, 98346\, United States
END:VEVENT
END:VCALENDAR