BEGIN:VCALENDAR
VERSION:2.0
PRODID:-//Port of Kingston - ECPv6.15.20//NONSGML v1.0//EN
CALSCALE:GREGORIAN
METHOD:PUBLISH
X-ORIGINAL-URL:https://portofkingston.org
X-WR-CALDESC:Events for Port of Kingston
REFRESH-INTERVAL;VALUE=DURATION:PT1H
X-Robots-Tag:noindex
X-PUBLISHED-TTL:PT1H
BEGIN:VTIMEZONE
TZID:America/Los_Angeles
BEGIN:DAYLIGHT
TZOFFSETFROM:-0800
TZOFFSETTO:-0700
TZNAME:PDT
DTSTART:20220313T100000
END:DAYLIGHT
BEGIN:STANDARD
TZOFFSETFROM:-0700
TZOFFSETTO:-0800
TZNAME:PST
DTSTART:20221106T090000
END:STANDARD
BEGIN:DAYLIGHT
TZOFFSETFROM:-0800
TZOFFSETTO:-0700
TZNAME:PDT
DTSTART:20230312T100000
END:DAYLIGHT
BEGIN:STANDARD
TZOFFSETFROM:-0700
TZOFFSETTO:-0800
TZNAME:PST
DTSTART:20231105T090000
END:STANDARD
BEGIN:DAYLIGHT
TZOFFSETFROM:-0800
TZOFFSETTO:-0700
TZNAME:PDT
DTSTART:20240310T100000
END:DAYLIGHT
BEGIN:STANDARD
TZOFFSETFROM:-0700
TZOFFSETTO:-0800
TZNAME:PST
DTSTART:20241103T090000
END:STANDARD
END:VTIMEZONE
BEGIN:VEVENT
DTSTART;TZID=America/Los_Angeles:20230524T060000
DTEND;TZID=America/Los_Angeles:20230524T080000
DTSTAMP:20260421T073506
CREATED:20230105T043700Z
LAST-MODIFIED:20230105T043700Z
UID:11776-1684908000-1684915200@portofkingston.org
SUMMARY:Port of Kingston Regular Commission Meeting
DESCRIPTION:Meeting will be hosted in person at the Village Green Community Center. If you are unable to attend in person\, please join via the Zoom link below\nPort of Kingston is inviting you to a scheduled Zoom meeting. \nTopic: Regular Commission Meeting \nTime: May 24\, 2023 01:00 PM \nPlease download and import the following iCalendar (.ics) files to your calendar system. \nMonthly: https://us02web.zoom.us/meeting/tZYvdeiqqzgiH9HKZoJjkuV1TRbb5HWO0NOG/ics?icsToken=98tyKuGqrDkrGNGWuByCRpwQAIjod-rwmHZHgvp1tyXqKSpYdzWnAtBAMOdXJ_eA \nJoin Zoom Meeting \nhttps://us02web.zoom.us/j/82221253855 \nMeeting ID: 822 2125 3855 \nOne tap mobile \n+12532158782\,\,82221253855# US (Tacoma) \n+16694449171\,\,82221253855# US
URL:https://portofkingston.org/event/port-of-kingston-regular-commission-meeting-37/
LOCATION:Village Green Community Center\, 26159 Dulay Road NE\, Kingston\, WA\, 98346\, United States
END:VEVENT
END:VCALENDAR