BEGIN:VCALENDAR
VERSION:2.0
PRODID:-//Port of Kingston - ECPv6.15.20//NONSGML v1.0//EN
CALSCALE:GREGORIAN
METHOD:PUBLISH
X-WR-CALNAME:Port of Kingston
X-ORIGINAL-URL:https://portofkingston.org
X-WR-CALDESC:Events for Port of Kingston
REFRESH-INTERVAL;VALUE=DURATION:PT1H
X-Robots-Tag:noindex
X-PUBLISHED-TTL:PT1H
BEGIN:VTIMEZONE
TZID:America/Los_Angeles
BEGIN:DAYLIGHT
TZOFFSETFROM:-0800
TZOFFSETTO:-0700
TZNAME:PDT
DTSTART:20220313T100000
END:DAYLIGHT
BEGIN:STANDARD
TZOFFSETFROM:-0700
TZOFFSETTO:-0800
TZNAME:PST
DTSTART:20221106T090000
END:STANDARD
BEGIN:DAYLIGHT
TZOFFSETFROM:-0800
TZOFFSETTO:-0700
TZNAME:PDT
DTSTART:20230312T100000
END:DAYLIGHT
BEGIN:STANDARD
TZOFFSETFROM:-0700
TZOFFSETTO:-0800
TZNAME:PST
DTSTART:20231105T090000
END:STANDARD
BEGIN:DAYLIGHT
TZOFFSETFROM:-0800
TZOFFSETTO:-0700
TZNAME:PDT
DTSTART:20240310T100000
END:DAYLIGHT
BEGIN:STANDARD
TZOFFSETFROM:-0700
TZOFFSETTO:-0800
TZNAME:PST
DTSTART:20241103T090000
END:STANDARD
END:VTIMEZONE
BEGIN:VEVENT
DTSTART;TZID=America/Los_Angeles:20230308T080000
DTEND;TZID=America/Los_Angeles:20230308T093000
DTSTAMP:20260423T014403
CREATED:20230307T011025Z
LAST-MODIFIED:20230307T011248Z
UID:12383-1678262400-1678267800@portofkingston.org
SUMMARY:Kitsap Community Advisory Council Zoom Meeting
DESCRIPTION:Kitsap Community Advisory Council – Kingston Sub Area Plan Discussion \nJoin Zoom Meeting: https://us06web.zoom.us/j/86727621187?pwd=QzhnR1FqWVVTT3NENmh4TzZFYTRrdz09 \nMeeting ID: 867 2762 1187 \nPasscode: kcac \n 
URL:https://portofkingston.org/event/12383/
LOCATION:Zoom – Remote Meeting
END:VEVENT
END:VCALENDAR