BEGIN:VCALENDAR
VERSION:2.0
PRODID:-//Port of Kingston - ECPv6.15.20//NONSGML v1.0//EN
CALSCALE:GREGORIAN
METHOD:PUBLISH
X-WR-CALNAME:Port of Kingston
X-ORIGINAL-URL:https://portofkingston.org
X-WR-CALDESC:Events for Port of Kingston
REFRESH-INTERVAL;VALUE=DURATION:PT1H
X-Robots-Tag:noindex
X-PUBLISHED-TTL:PT1H
BEGIN:VTIMEZONE
TZID:America/Los_Angeles
BEGIN:DAYLIGHT
TZOFFSETFROM:-0800
TZOFFSETTO:-0700
TZNAME:PDT
DTSTART:20210314T100000
END:DAYLIGHT
BEGIN:STANDARD
TZOFFSETFROM:-0700
TZOFFSETTO:-0800
TZNAME:PST
DTSTART:20211107T090000
END:STANDARD
BEGIN:DAYLIGHT
TZOFFSETFROM:-0800
TZOFFSETTO:-0700
TZNAME:PDT
DTSTART:20220313T100000
END:DAYLIGHT
BEGIN:STANDARD
TZOFFSETFROM:-0700
TZOFFSETTO:-0800
TZNAME:PST
DTSTART:20221106T090000
END:STANDARD
BEGIN:DAYLIGHT
TZOFFSETFROM:-0800
TZOFFSETTO:-0700
TZNAME:PDT
DTSTART:20230312T100000
END:DAYLIGHT
BEGIN:STANDARD
TZOFFSETFROM:-0700
TZOFFSETTO:-0800
TZNAME:PST
DTSTART:20231105T090000
END:STANDARD
END:VTIMEZONE
BEGIN:VEVENT
DTSTART;TZID=America/Los_Angeles:20221116T050000
DTEND;TZID=America/Los_Angeles:20221116T070000
DTSTAMP:20260423T083838
CREATED:20220930T070249Z
LAST-MODIFIED:20221109T084558Z
UID:11240-1668574800-1668582000@portofkingston.org
SUMMARY:Port of Kingston Regular Commission Meeting
DESCRIPTION:Meeting will be hosted in person at the Village Green Community Center. If you are unable to attend in person\, please join via the Zoom link below\nPort of Kingston is inviting you to a scheduled Zoom meeting. \nTopic: Port of Kingston Regular Session Meeting \nJoin Zoom Meeting\nhttps://us02web.zoom.us/j/81023066807?pwd=ajErNm4xOFJFcVVJZEsyRXVRNFZ4dz09 \nMeeting ID: 810 2306 6807\nPasscode: 434376\nOne tap mobile\n+12532158782\,\,81023066807#\,\,\,\,*434376# US (Tacoma)\n+16694449171\,\,81023066807#\,\,\,\,*434376# US \nDial by your location\n+1 253 215 8782 US (Tacoma)\n+1 669 444 9171 US\n+1 669 900 6833 US (San Jose)\n+1 719 359 4580 US\n+1 346 248 7799 US (Houston)\n+1 386 347 5053 US\n+1 564 217 2000 US\n+1 646 931 3860 US\n+1 929 205 6099 US (New York)\n+1 301 715 8592 US (Washington DC)\n+1 309 205 3325 US\n+1 312 626 6799 US (Chicago)\nMeeting ID: 810 2306 6807\nPasscode: 434376\nFind your local number: https://us02web.zoom.us/u/kGvmzbJIZ
URL:https://portofkingston.org/event/port-of-kingston-regular-commission-meeting-32/
LOCATION:Village Green Community Center\, 26159 Dulay Road NE\, Kingston\, WA\, 98346\, United States
END:VEVENT
END:VCALENDAR