BEGIN:VCALENDAR
VERSION:2.0
PRODID:-//Port of Kingston - ECPv6.15.20//NONSGML v1.0//EN
CALSCALE:GREGORIAN
METHOD:PUBLISH
X-WR-CALNAME:Port of Kingston
X-ORIGINAL-URL:https://portofkingston.org
X-WR-CALDESC:Events for Port of Kingston
REFRESH-INTERVAL;VALUE=DURATION:PT1H
X-Robots-Tag:noindex
X-PUBLISHED-TTL:PT1H
BEGIN:VTIMEZONE
TZID:America/Los_Angeles
BEGIN:DAYLIGHT
TZOFFSETFROM:-0800
TZOFFSETTO:-0700
TZNAME:PDT
DTSTART:20210314T100000
END:DAYLIGHT
BEGIN:STANDARD
TZOFFSETFROM:-0700
TZOFFSETTO:-0800
TZNAME:PST
DTSTART:20211107T090000
END:STANDARD
BEGIN:DAYLIGHT
TZOFFSETFROM:-0800
TZOFFSETTO:-0700
TZNAME:PDT
DTSTART:20220313T100000
END:DAYLIGHT
BEGIN:STANDARD
TZOFFSETFROM:-0700
TZOFFSETTO:-0800
TZNAME:PST
DTSTART:20221106T090000
END:STANDARD
BEGIN:DAYLIGHT
TZOFFSETFROM:-0800
TZOFFSETTO:-0700
TZNAME:PDT
DTSTART:20230312T100000
END:DAYLIGHT
BEGIN:STANDARD
TZOFFSETFROM:-0700
TZOFFSETTO:-0800
TZNAME:PST
DTSTART:20231105T090000
END:STANDARD
END:VTIMEZONE
BEGIN:VEVENT
DTSTART;TZID=America/Los_Angeles:20221108T003000
DTEND;TZID=America/Los_Angeles:20221108T023000
DTSTAMP:20260423T071138
CREATED:20221101T055744Z
LAST-MODIFIED:20221110T075212Z
UID:11474-1667867400-1667874600@portofkingston.org
SUMMARY:Port of Kingston Commission Special Session
DESCRIPTION:Meeting will be hosted in person at the Village Green Community Center. If you are unable to attend in person\, please join via the Zoom link below\nCommissioners in concert with Port Staff hold weekly work study sessions to conduct Port business.  These meetings are open to the public; however\, they are not open for public comment; the public is welcome to sit and listen only.  Public comment is taken at the Port of Kingston’s monthly Regular Commission Meetings. \nThere are no agendas for work study sessions. \nThis meeting will be offered remotely through Zoom  \nPort of Kingston is inviting you to a scheduled Zoom meeting. \nTopic: Port of Kingston Session\nTime: Nov 8\, 2022 08:30 AM Pacific Time (US and Canada)\nNov 15\, 2022 08:30 AM\nNov 22\, 2022 08:30 AM\nNov 29\, 2022 08:30 AM\nDec 6\, 2022 08:30 AM\nDec 13\, 2022 08:30 AM\nDec 20\, 2022 08:30 AM\nDec 27\, 2022 08:30 AM \nWeekly: https://us02web.zoom.us/meeting/tZEtc-2hpjIoGdUf2FssBcw_IPpEOU8j2KuA/ics?icsToken=98tyKuGtrj8uE9ycshqGRpwMAo-gLPPxiFhBjadomk3DEDNxYRTJH9JSF51KSNKC \nJoin Zoom Meeting\nhttps://us02web.zoom.us/j/85044989231 \nMeeting ID: 850 4498 9231\nOne tap mobile\n+12532158782\,\,85044989231# US (Tacoma)\n+16694449171\,\,85044989231# US \nDial by your location\n+1 253 215 8782 US (Tacoma)\n+1 669 444 9171 US \nMeeting ID: 850 4498 9231\nFind your local number: https://us02web.zoom.us/u/kcpu0k2R9C
URL:https://portofkingston.org/event/port-of-kingston-commission-work-session-54/
LOCATION:Village Green Community Center\, 26159 Dulay Road NE\, Kingston\, WA\, 98346\, United States
END:VEVENT
END:VCALENDAR