BEGIN:VCALENDAR
VERSION:2.0
PRODID:-//Port of Kingston - ECPv6.15.20//NONSGML v1.0//EN
CALSCALE:GREGORIAN
METHOD:PUBLISH
X-WR-CALNAME:Port of Kingston
X-ORIGINAL-URL:https://portofkingston.org
X-WR-CALDESC:Events for Port of Kingston
REFRESH-INTERVAL;VALUE=DURATION:PT1H
X-Robots-Tag:noindex
X-PUBLISHED-TTL:PT1H
BEGIN:VTIMEZONE
TZID:America/Los_Angeles
BEGIN:DAYLIGHT
TZOFFSETFROM:-0800
TZOFFSETTO:-0700
TZNAME:PDT
DTSTART:20210314T100000
END:DAYLIGHT
BEGIN:STANDARD
TZOFFSETFROM:-0700
TZOFFSETTO:-0800
TZNAME:PST
DTSTART:20211107T090000
END:STANDARD
BEGIN:DAYLIGHT
TZOFFSETFROM:-0800
TZOFFSETTO:-0700
TZNAME:PDT
DTSTART:20220313T100000
END:DAYLIGHT
BEGIN:STANDARD
TZOFFSETFROM:-0700
TZOFFSETTO:-0800
TZNAME:PST
DTSTART:20221106T090000
END:STANDARD
BEGIN:DAYLIGHT
TZOFFSETFROM:-0800
TZOFFSETTO:-0700
TZNAME:PDT
DTSTART:20230312T100000
END:DAYLIGHT
BEGIN:STANDARD
TZOFFSETFROM:-0700
TZOFFSETTO:-0800
TZNAME:PST
DTSTART:20231105T090000
END:STANDARD
END:VTIMEZONE
BEGIN:VEVENT
DTSTART;TZID=America/Los_Angeles:20220820T080000
DTEND;TZID=America/Los_Angeles:20220820T100000
DTSTAMP:20260423T125754
CREATED:20220618T045920Z
LAST-MODIFIED:20220618T045920Z
UID:10886-1660982400-1660989600@portofkingston.org
SUMMARY:Kingston Concerts on the Cove
DESCRIPTION:Presented by the Greater Kingston Community Chamber of Commerce \nGrab a lawn chair or blanket and come enjoy a performance by Soul Siren! \nThe Rotary will have a beer garden setup. \nThis is the fifth and final concert of the 2022 Concerts on the Cove series come on out and help us end it with our biggest crowd yet! \n  \n  \n 
URL:https://portofkingston.org/event/kingston-concerts-on-the-cove-5/
LOCATION:Mike Wallace Marina Park\, 25864 Washington Blvd NE\, Kingston\, WA\, 98346\, United States
END:VEVENT
END:VCALENDAR