BEGIN:VCALENDAR
VERSION:2.0
PRODID:-//Port of Kingston - ECPv6.15.20//NONSGML v1.0//EN
CALSCALE:GREGORIAN
METHOD:PUBLISH
X-ORIGINAL-URL:https://portofkingston.org
X-WR-CALDESC:Events for Port of Kingston
REFRESH-INTERVAL;VALUE=DURATION:PT1H
X-Robots-Tag:noindex
X-PUBLISHED-TTL:PT1H
BEGIN:VTIMEZONE
TZID:America/Los_Angeles
BEGIN:DAYLIGHT
TZOFFSETFROM:-0800
TZOFFSETTO:-0700
TZNAME:PDT
DTSTART:20210314T100000
END:DAYLIGHT
BEGIN:STANDARD
TZOFFSETFROM:-0700
TZOFFSETTO:-0800
TZNAME:PST
DTSTART:20211107T090000
END:STANDARD
BEGIN:DAYLIGHT
TZOFFSETFROM:-0800
TZOFFSETTO:-0700
TZNAME:PDT
DTSTART:20220313T100000
END:DAYLIGHT
BEGIN:STANDARD
TZOFFSETFROM:-0700
TZOFFSETTO:-0800
TZNAME:PST
DTSTART:20221106T090000
END:STANDARD
BEGIN:DAYLIGHT
TZOFFSETFROM:-0800
TZOFFSETTO:-0700
TZNAME:PDT
DTSTART:20230312T100000
END:DAYLIGHT
BEGIN:STANDARD
TZOFFSETFROM:-0700
TZOFFSETTO:-0800
TZNAME:PST
DTSTART:20231105T090000
END:STANDARD
END:VTIMEZONE
BEGIN:VEVENT
DTSTART;TZID=America/Los_Angeles:20220730T070000
DTEND;TZID=America/Los_Angeles:20220730T100000
DTSTAMP:20260423T153141
CREATED:20220618T034714Z
LAST-MODIFIED:20220618T034714Z
UID:10880-1659164400-1659175200@portofkingston.org
SUMMARY:Kingston Concerts on the Cove
DESCRIPTION:Presented by the Greater Kingston Community Chamber of Commerce \nGrab a lawn chair or blanket and come enjoy a performance by Sister Mercy \nThe Rotary will have a beer garden setup. \nThis concert is the second of a 5 performance series\, click here to see the complete lineup of artists and dates. \n  \n  \n 
URL:https://portofkingston.org/event/kingston-concerts-on-the-cove-2/
LOCATION:Mike Wallace Marina Park\, 25864 Washington Blvd NE\, Kingston\, WA\, 98346\, United States
END:VEVENT
BEGIN:VEVENT
DTSTART;TZID=America/Los_Angeles:20220730T070000
DTEND;TZID=America/Los_Angeles:20220730T130000
DTSTAMP:20260423T153141
CREATED:20220619T044219Z
LAST-MODIFIED:20220623T051313Z
UID:10890-1659164400-1659186000@portofkingston.org
SUMMARY:Kingston Wine & Brew Fest
DESCRIPTION:Presented by the Greater Kingston Community Chamber of Commerce. \nCome down to the Port of Kingston’s Mike Wallace Marina Park and enjoy wine\, brews\, ciders\, food vendors\, live music\, and artisan vendors! A group of local craft breweries will have tastings. Sister Mercy will be playing 2pm-5pm and The Fabulous Murphtones will be playing 6pm-8pm. \nTickets are on sale now at eventbrite.com. \nSignature glassware and swag bag for each ticketholder! \nFor full details please contact the Chamber.
URL:https://portofkingston.org/event/kingston-wine-brew-fest/
LOCATION:Mike Wallace Marina Park\, 25864 Washington Blvd NE\, Kingston\, WA\, 98346\, United States
END:VEVENT
END:VCALENDAR